BEGIN:VCALENDAR
VERSION:2.0
PRODID:-//wp-events-plugin.com//7.2.3.1//EN
TZID:America/Chicago
X-WR-TIMEZONE:America/Chicago
BEGIN:VEVENT
UID:213@jhtraveltours.com
DTSTART;TZID=America/Chicago:20171017T074500
DTEND;TZID=America/Chicago:20171017T194500
DTSTAMP:20170113T052106Z
URL:https://jhtraveltours.com/events/kickin-country-celebration-belle/
SUMMARY:Kickin' It Country - Celebration Belle - #_LOCATIONNAME - 17 Oct 17
  07:45
DESCRIPTION:Join JH Travel for this cruise featuring Ray &amp\; Jane perfor
 ming the great Country hits along with your favorites from the 50's to the
  present time. It'll be Nashville on the river! Don't forget to wear your 
 dancing shoes because you'll be dancing\, clapping and singing along to yo
 ur favorites! And\, did we mention line dancing? Be there on the Celebrati
 on Belle when she goes Country! Y'all come now to our Kickin' It Country C
 ruise - it's a new show you don't want to miss! And\, hoping for a little 
 autumn color if Mother Nature cooperates with our plans! \n\n\n\nOnce we b
 egin our cruise those "yummy" sticky rolls will be served and before long 
 their wonderful buffet will be laid out for lunch. After we disembark the 
 Celebration Belle our Hawkeye Stages coach will be awaiting and our theme 
 continues at our evening meal at The Coffee Cup Cafe in Sully\, Iowa for b
 roasted chicken\, potato salad\, vegetable\, bread\, and of course. . . th
 eir home made pie!! Join us for this fun day! \n\nDepart: 7:45 a.m.\nRetur
 n: 7:45 p.m. \n\nCost Per Person: $156.00\n\nReservations and payment due 
 by September 12\, 2017
ATTACH;FMTTYPE=image/jpeg:https://jhtraveltours.com/wp-content/uploads/201
 6/12/CelebrationBelle2017.png
CATEGORIES:Day Trip
END:VEVENT
BEGIN:VTIMEZONE
TZID:America/Chicago
X-LIC-LOCATION:America/Chicago
BEGIN:DAYLIGHT
DTSTART:20170312T030000
TZOFFSETFROM:-0600
TZOFFSETTO:-0500
TZNAME:CDT
END:DAYLIGHT
END:VTIMEZONE
END:VCALENDAR