BEGIN:VCALENDAR
VERSION:2.0
PRODID:-//wp-events-plugin.com//7.2.3.1//EN
TZID:America/Chicago
X-WR-TIMEZONE:America/Chicago
BEGIN:VEVENT
UID:309@jhtraveltours.com
DTSTART;TZID=America/Chicago:20200311T091500
DTEND;TZID=America/Chicago:20200311T184500
DTSTAMP:20190730T022940Z
URL:https://jhtraveltours.com/events/kinky-boots/
SUMMARY:Kinky Boots - #_LOCATIONNAME - 11 Mar 20 09:15
DESCRIPTION:\n\nWinner of 6 Tony Awards! \n\nJoin JH Travel for the "first"
  trip in 2020 and the "first" trip to Circa 21 Dinner Playhouse for the Ne
 w Year! Bring along your dancing stilettos for great time!\n\nCharlie Pric
 e has reluctantly inherited his father’s failing shoe factory. Trying to
  live up to his father’s legacy and save his family business\, Charlie f
 inds inspiration in the form of Lola\, a fabulous drag queen in need of so
 me sturdy stilettos. This joyous musical celebration is about the friendsh
 ips we discover and the belief that you can change the world when you chan
 ge your mind. With elaborate costumes\, exhilarating choreography and a 
 truly moving and powerful story\, Kinky Boots will have you dancing in you
 r seat and discovering why\, sometimes\, the best way to fit in ... is to 
 stand out!\n\nA fun story\, dancing\, music and great food with time to sh
 are with your friends and meet new ones along the way!\n\nDepart:  9:15 a
 .m.\n\nReturn:  6:45 p.m.\n\nCost Per Person:  $143.00\n\nReservation an
 d payment due by February 3\, 2020 
ATTACH;FMTTYPE=image/jpeg:https://jhtraveltours.com/wp-content/uploads/201
 9/07/Trip-Header-2019-3.png
CATEGORIES:Day Trip
END:VEVENT
BEGIN:VTIMEZONE
TZID:America/Chicago
X-LIC-LOCATION:America/Chicago
BEGIN:DAYLIGHT
DTSTART:20200308T030000
TZOFFSETFROM:-0600
TZOFFSETTO:-0500
TZNAME:CDT
END:DAYLIGHT
END:VTIMEZONE
END:VCALENDAR