BEGIN:VCALENDAR
VERSION:2.0
PRODID:-//wp-events-plugin.com//7.2.3.1//EN
TZID:America/Chicago
X-WR-TIMEZONE:America/Chicago
BEGIN:VEVENT
UID:302@jhtraveltours.com
DTSTART;TZID=America/Chicago:20190725T073000
DTEND;TZID=America/Chicago:20190725T193000
DTSTAMP:20190402T015915Z
URL:https://jhtraveltours.com/events/ladies-day-getaway-2019/
SUMMARY:Ladies Day Getaway 2019 - #_LOCATIONNAME - 25 Jul 19 07:30
DESCRIPTION:July 25\, 2019 (Thursday)  \n\nThis trip is formerly known as 
 a "Tea Room Trip" and as we have visited many of the tea rooms in Iowa the
  number of tea rooms have dwindled the last few years - so a new trip has 
 been created!\n\nWe will be visiting the small southern town of Humeston f
 or our "Ladies Day Getaway" and they have been very busy planning a specia
 l day for our travelers! This small town has seven retail stores with a la
 rge variety of products and are excited to share their community with us! 
 We will begin with a "Welcome to Humeston" morning break with coffee\, tea
  &amp\; scones made by the Grass Roots Cafe. A style show displaying ladie
 s clothing from Snyder's along with some younger folks modeling with outfi
 ts from Sweet Southern Sass. A hands on project entitled "A Very Special L
 etter" will be created by each person followed by a lovely lunch at Grass 
 Roots Cafe. A surprise "crafty" hands on project will be made by everyone 
 before enjoying free time to shop and a visit to Dragonfly for wine tastin
 g. This small community offers a nice variety for shopping opportunities t
 hat include: jewelry\, clothing\, kitchen shop\, old fashioned candies\, h
 ome decorating\, kids store\, quilt shop\, yarn shop and so much more! Bef
 ore leaving Humeston we will have a short program on "Quilts of Valor" whi
 ch their mission is to cover all service members and veterans touched by w
 ar with a Quilt of Valor (QOV).\n\nOnce we depart Humeston we travel to Sl
 ykhuis Twilight Tea Room located in Williamson\, IA for an evening meal wi
 th a dinner salad\, rolls\, vegetable\, pork loin and dessert with drink.\
 n\nPlease sign up quickly as we have limited space (40) on this trip! Mark
  your calendar\, call or email your reservations today! If the need arises
  a second coach will be added on Tuesday\, July 30\, 2019. Reservations WI
 LL NOT be changed between coaches. \n\n \n\nDepart:  7:30 a.m.\n\nReturn
 :  7:30 p.m.\n\n&nbsp\;\n\nCost Per Person:  $157.00\n\n&nbsp\;\n\nReser
 vations and payment due by June 28\, 2019 \n\n&nbsp\;
ATTACH;FMTTYPE=image/jpeg:https://jhtraveltours.com/wp-content/uploads/201
 9/04/Trip-Header-2019.png
CATEGORIES:Day Trip
END:VEVENT
BEGIN:VTIMEZONE
TZID:America/Chicago
X-LIC-LOCATION:America/Chicago
BEGIN:DAYLIGHT
DTSTART:20190310T030000
TZOFFSETFROM:-0600
TZOFFSETTO:-0500
TZNAME:CDT
END:DAYLIGHT
END:VTIMEZONE
END:VCALENDAR