BEGIN:VCALENDAR
VERSION:2.0
PRODID:-//wp-events-plugin.com//7.2.3.1//EN
TZID:America/Chicago
X-WR-TIMEZONE:America/Chicago
BEGIN:VEVENT
UID:262@jhtraveltours.com
DTSTART;TZID=America/Chicago:20180509T060000
DTEND;TZID=America/Chicago:20180509T191500
DTSTAMP:20180318T010317Z
URL:https://jhtraveltours.com/events/lets-go-gardeners-2018-day-2/
SUMMARY:Let's Go Gardeners 2018 Day 2 - #_LOCATIONNAME - 9 May 18 06:00
DESCRIPTION:Attention All Gardeners! JH Travel has planned a special one da
 y trip visiting Sherbondy's Garden Center (Council Bluffs)\, Indian Creek 
 Nursery (Omaha)\, Mulhall's (Omaha) and Harvey's Greenhouse (Adel).  We a
 re also offering an additional one day garden trip on May 7\, 2018 (differ
 ent greenhouses) - when making reservations be sure to share which date yo
 u are making reservations for. \n\nOur first morning stop will be for a mu
 ffin &amp\; coffee at the Chuckwagon Restaurant and then onto plant shoppi
 ng! Our first plant stop is Sherbondy's  Garden Center which is in its 47
 th year in their family owned business and known for the large expanse of 
 outdoor area to shop\, roses\, perennials &amp\; annuals. Onto Indian Cree
 k Nursery which began in 1981 and offers a large variety of succulents\, u
 nusual perennials and pottery. A Subway boxed lunch will be served for lun
 ch on the way to our next greenhouse which is Mulhall's which is a family 
 owned business for over 60 years with the third generation overseeing the 
 management. It offers a large terrarium area that displays decorations\, r
 ocks &amp\; glass options to make just the perfect terrarium. They also of
 fer patio furniture\, succulents\, tropical plants\, annuals &amp\; trees.
 \n\nJust a reminder that a truck &amp\; trailer will be accompanying our g
 roup to house your purchases (not responsible for loss of plants or breaka
 ge of items purchased.) Each item must be labeled with a return address la
 bel for verification when unloading the trailer - so bring plenty of label
 s!\n\nThis will be a popular trip - so call early to make your reservation
 ! It is fun to travel along with friends and family to share/swap garden s
 tories! This trip is limited to 32 travelers due to available space! \n\nD
 epart:  6:00 a.m.\nReturn:  7:15 p.m.\n\nCost Per Person: $129.00\n\nRes
 ervation and payment due by April 20\, 2018 
ATTACH;FMTTYPE=image/jpeg:https://jhtraveltours.com/wp-content/uploads/201
 8/02/Gardens2018.png
CATEGORIES:Day Trip
END:VEVENT
BEGIN:VTIMEZONE
TZID:America/Chicago
X-LIC-LOCATION:America/Chicago
BEGIN:DAYLIGHT
DTSTART:20180311T030000
TZOFFSETFROM:-0600
TZOFFSETTO:-0500
TZNAME:CDT
END:DAYLIGHT
END:VTIMEZONE
END:VCALENDAR