BEGIN:VCALENDAR
VERSION:2.0
PRODID:-//wp-events-plugin.com//7.2.3.1//EN
TZID:America/Chicago
X-WR-TIMEZONE:America/Chicago
BEGIN:VEVENT
UID:300@jhtraveltours.com
DTSTART;TZID=America/Chicago:20190508T054500
DTEND;TZID=America/Chicago:20190508T200000
DTSTAMP:20190402T023726Z
URL:https://jhtraveltours.com/events/lets-go-gardeners-2019-2/
SUMMARY:Let's Go Gardener's 2019 Wednesday - #_LOCATIONNAME - 8 May 19 05:4
 5
DESCRIPTION:Trip Full!\nCheck out Monday's Trip Here\n\nMay 8\, 2019 (Wedne
 sday) \n\nThis garden trip is featuring Mennonite greenhouses located by I
 onia\, Alta Vista and Charles City\, IA and included is a family style mea
 l at E &amp\; E Confections for lunch.\n\nMuffins &amp\; water will be ser
 ved for a morning snack on our way to Cedar Falls for a restroom break at 
 McDonalds. Our first greenhouse is KR Greenhouse and is known for their ha
 nging baskets (over 3\,000)\, succulents\, tropical plants\, garden art\, 
 geraniums with 5 buildings to shop in. We then travel two miles to Hoover'
 s Greenhouse which offer garden art\, unusual plants in garden pots\, succ
 ulent wreaths and bathrooms! Lunch will be ready for our group served fami
 ly style with fried chicken\, meat balls\, cheesy shredded potatoes\, BBQ 
 green beans\, rolls\, salad\, 3 pie selections &amp\; ice cream with drink
  - be sure to bring along your appetite!\n\nOur coach will take us a coupl
 e miles down the road to Oak Grove Greenhouse that offer a variety of plan
 ters made up with beautiful plants and offers unique type planters (basket
 s\, pans etc). Our last stop before heading back to Newton will be at Pine
  Hill Greenhouse which offer flowering shrubs\, trees\, succulents and a w
 ide variety of plants. A quick stop at McDonalds for an evening meal &amp\
 ; rest room stop before arriving back to Newton to unload our plants!\n\nJ
 ust a reminder that a truck &amp\; trailer will be accompanying our group 
 to house your purchases (not responsible for loss of plants or breakage of
  items purchased.)  Each item must be labeled with a return address label
  for verification when unloading the trailer - so bring plenty of labels!\
 n\nDepart:  5:45 a.m.\n\nReturn:  8:00 p.m.\n\nCost Per Person: $133.00\
 n\nReservation and payment due by April 18\, 2019 \n\n \n\n \n\n 
ATTACH;FMTTYPE=image/jpeg:https://jhtraveltours.com/wp-content/uploads/201
 9/04/Trip-Header-2019-1.png
CATEGORIES:Day Trip
END:VEVENT
BEGIN:VTIMEZONE
TZID:America/Chicago
X-LIC-LOCATION:America/Chicago
BEGIN:DAYLIGHT
DTSTART:20190310T030000
TZOFFSETFROM:-0600
TZOFFSETTO:-0500
TZNAME:CDT
END:DAYLIGHT
END:VTIMEZONE
END:VCALENDAR