BEGIN:VCALENDAR
VERSION:2.0
PRODID:-//wp-events-plugin.com//7.2.3.1//EN
TZID:America/Chicago
X-WR-TIMEZONE:America/Chicago
BEGIN:VEVENT
UID:301@jhtraveltours.com
DTSTART;TZID=America/Chicago:20190506T061500
DTEND;TZID=America/Chicago:20190506T193000
DTSTAMP:20190402T025014Z
URL:https://jhtraveltours.com/events/lets-go-gardeners-2019/
SUMMARY:Let's Go Gardeners 2019 - #_LOCATIONNAME - 6 May 19 06:15
DESCRIPTION:Attention All Gardeners! JH Travel has planned a special one da
 y trip visiting Lincoln View Farm\, Salama Greenhouse &amp\; Floral\, Red 
 Granite Farm\, Smitty's Garden Center\, Stony Creek Landscapes\, The Gathe
 ring Place at the Pine. These stops are located by Boone\, Ft. Dodge\, Web
 ster City and Iowa Falls\, IA.\n\nA muffin &amp\; water (included) will be
  served along the way to Lincoln View Farm where we are invited to walk in
  her spacious hosta gardens\, view the garden art (wine trees &amp\; bushe
 s made by her husband) and vintage shop. Her Koi ponds are beautiful as we
 ll! We then travel into Boone to visit Salama Greenhouse which has been a 
 family owned business for over 40 years known for their unique combo hangi
 ng baskets and pots\, geraniums &amp\; perennials. We then travel a short 
 distance to Red Granite Farm where she offers quite an array of succulents
  and hardy perennials. If time permits you are welcome to browse thru her 
 gardens.\n\nLunch awaits our group at Tea Thyme at Sadies (included) where
  you will love her food and she is known for her delicious pies - so be su
 re to save room for dessert! Before we leave Ft. Dodge we visit Smitty's G
 arden Center where they are known for their geraniums\, hanging baskets\, 
 herbs &amp\; vegetables. Traveling onto Webster City a short visit to Ston
 y Creek Landscapes where the owner makes unique garden art over the winter
 time. They also offer a variety of trees\, conifers\, bushes and flowers. 
 Sit back and relax as the coach takes us to Iowa Falls to the Gathering Pl
 ace at the Pines where she carries plants from a Mennonite greenhouse &amp
 \; offers an array of gift items. Relax &amp\; enjoy the beautiful atmosph
 ere inside as we enjoy a picnic evening meal with a boxed meal from Subway
  (included)  before we begin our trip back to Newton.\n\nJust a reminder 
 that a truck &amp\; trailer will be accompanying our group to house your p
 urchases (not responsible for loss of plants or breakage of items purchase
 d.) Each item must be labeled with a return address label for verification
  when unloading the trailer - so bring plenty of labels!\n\nThis will be a
  popular trip - so call early to make your reservation! It is fun to trave
 l along with friends and family to share/swap garden stories! This trip is
  limited to 32 travelers due to available space! \n\nDepart:  6:15 a.m.\n
 \nReturn:  7:30 p.m.\n\nCost Per Person: $121.00\n\nReservation and payme
 nt due by April 18\, 2019\n\n&nbsp\;\n\n 
ATTACH;FMTTYPE=image/jpeg:https://jhtraveltours.com/wp-content/uploads/201
 9/04/Trip-Header-2019-2.png
CATEGORIES:Day Trip
END:VEVENT
BEGIN:VTIMEZONE
TZID:America/Chicago
X-LIC-LOCATION:America/Chicago
BEGIN:DAYLIGHT
DTSTART:20190310T030000
TZOFFSETFROM:-0600
TZOFFSETTO:-0500
TZNAME:CDT
END:DAYLIGHT
END:VTIMEZONE
END:VCALENDAR