BEGIN:VCALENDAR
VERSION:2.0
PRODID:-//wp-events-plugin.com//7.2.3.1//EN
TZID:America/Chicago
X-WR-TIMEZONE:America/Chicago
BEGIN:VEVENT
UID:456@jhtraveltours.com
DTSTART;TZID=America/Chicago:20250508T060000
DTEND;TZID=America/Chicago:20250508T190000
DTSTAMP:20250328T023226Z
URL:https://jhtraveltours.com/events/lets-go-gardeners-4/
SUMMARY:Let’s Go Gardeners - #_LOCATIONNAME - 8 May 25 06:00
DESCRIPTION:Our second garden trip is featuring Amish &amp\; non-Amish gree
 nhouses in southern Iowa &amp\; Missouri. (LIMIT OF 25 GARDENERS PER TRIP 
 DUE TO TRAILER CAPACITY). \n\nOur day will begin with a stop at Necessitie
 s Mercantile in Eldon\, Iowa for morning coffee &amp\; quiche before visit
 ing Ostrander Flowers &amp\; Greenhouse which has 12 greenhouses to shop i
 n. We then travel onto Lancaster\, MO to visit Lilac Hill Greenhouse and t
 hey are hosting our lunch as well! Lilac Hill Greenhouse has a wide variet
 y of perennials\, unique plants that other greenhouses don’t carry – s
 ounds like our kind of place! Traveling to Bloomfield\, Iowa we visit MJ C
 ountryscapes\, a relatively new business that houses annuals\, offers home
  type gifts &amp\; garden decor before traveling onto Gingerich Greenhouse
  (we visited last year - now with new owners)! \n\nIncluded in this trip i
 s: motor coach transportation\, driver tip\, truck &amp\; trailer to house
  your purchases (not responsible for loss of plants or breakage of items p
 urchased) breakfast stop\, lunch at Lilac Hill Greenhouse &amp\; evening m
 eal at the Red Shed! \n\nEach item must be labeled with a return address l
 abel for verification when unloading the trailer - so bring plenty of labe
 ls! Seriously\, bring lots of labels!!! \n\nDepart: 6:00 a.m. \n\nReturn: 
 7:00 p.m. \n\nFULL PAYMENT IS DUE AT THE TIME OF SIGNUP DUE TO OUR GREENHO
 USE TRIPS BEING SO POPULAR!!! \n\nCost Per Person: $179.00 \n\nLast sign-u
 p date is April 14\, 2025 (UPON AVAILABILITY) 
ATTACH;FMTTYPE=image/jpeg:https://jhtraveltours.com/wp-content/uploads/202
 5/03/greenhouse1.jpg
CATEGORIES:Day Trip
END:VEVENT
BEGIN:VTIMEZONE
TZID:America/Chicago
X-LIC-LOCATION:America/Chicago
BEGIN:DAYLIGHT
DTSTART:20250309T030000
TZOFFSETFROM:-0600
TZOFFSETTO:-0500
TZNAME:CDT
END:DAYLIGHT
END:VTIMEZONE
END:VCALENDAR