BEGIN:VCALENDAR
VERSION:2.0
PRODID:-//wp-events-plugin.com//7.2.3.1//EN
TZID:America/Chicago
X-WR-TIMEZONE:America/Chicago
BEGIN:VEVENT
UID:488@jhtraveltours.com
DTSTART;TZID=America/Chicago:20260506T060000
DTEND;TZID=America/Chicago:20260506T180000
DTSTAMP:20260421T043251Z
URL:https://jhtraveltours.com/events/lets-go-gardeners-6/
SUMMARY:Let’s Go Gardeners - #_LOCATIONNAME - 6 May 26 06:00
DESCRIPTION:Our second garden trip is featuring southeast Iowa greenhouses 
 located by Sigourney\, South English and Parnell\, Iowa and included is a 
 light breakfast and lunch. (LIMIT OF 25 GARDENERS PER TRIP DUE TO TRAILER 
 CAPACITY). \n\nOur first stop is at Barn Wired located in the historical a
 rea of Sigourney which houses a coffee shop\, home décor and a great plac
 e to meet friends! A light breakfast will be served before visiting James 
 Greenhouse just a few blocks away. Mikayla\, owner of James Greenhouse off
 ers a large gift area along with garden art and an array of annuals &amp\;
  perennials! Our next greenhouse to be visited is Morning View Market whic
 h is an Amish greenhouse (not sure if they take credit cards). Dawn\, owne
 r of Pleasant Valley Greenhouse by South English welcomes our group and is
  known for their nice array of annuals plus more. Our lunch will be served
  at Main St Pub in North English where 3 menu options are available\, plus
  ice cream for dessert! Our final greenhouse to be visited is Finn &amp\; 
 Rose Greenhouse (named after their daughter &amp\; Great Grandma Rose) whe
 re we will find annuals\, hanging baskets and pots. \n\nJust a reminder th
 at a truck &amp\; trailer will be accompanying our group to house your pur
 chases (not responsible for loss of plants or breakage of items purchased.
 ) Each item must be labeled with a return address label for verification w
 hen unloading the trailer - so bring plenty of labels! Seriously\, bring l
 ots of labels!!! \n\nDepart: 6:00 a.m. \n\nReturn: 6:00 p.m. \n\nFULL PAYM
 ENT IS DUE AT THE TIME OF SIGNUP DUE TO OUR GREENHOUSE TRIPS BEING SO POPU
 LAR!!! \n\nCost Per Person: $169.00 \n\n**Trip Subject to Change 
ATTACH;FMTTYPE=image/jpeg:https://jhtraveltours.com/wp-content/uploads/202
 4/03/greenhouse1.jpg
CATEGORIES:Day Trip
END:VEVENT
BEGIN:VTIMEZONE
TZID:America/Chicago
X-LIC-LOCATION:America/Chicago
BEGIN:DAYLIGHT
DTSTART:20260308T030000
TZOFFSETFROM:-0600
TZOFFSETTO:-0500
TZNAME:CDT
END:DAYLIGHT
END:VTIMEZONE
END:VCALENDAR