BEGIN:VCALENDAR
VERSION:2.0
PRODID:-//wp-events-plugin.com//7.2.3.1//EN
TZID:America/Chicago
X-WR-TIMEZONE:America/Chicago
BEGIN:VEVENT
UID:210@jhtraveltours.com
DTSTART;TZID=America/Chicago:20170501T061500
DTEND;TZID=America/Chicago:20170501T191500
DTSTAMP:20161101T032145Z
URL:https://jhtraveltours.com/events/lets-go-gardeners-day-1/
SUMMARY:Let's Go Gardeners! - Day #1 - #_LOCATIONNAME - 1 May 17 06:15
DESCRIPTION:Attention All Gardeners! JH Travel has planned a special one da
 y garden trip visiting Petersen &amp\; Tietz Greenhouse\, Corner Market Gr
 eenhouse and K &amp\; K Gardens with an Amish lunch in Oelwein! We are als
 o offering an additional one day garden trip on May 3\, 2017 (different gr
 eenhouses) - when making reservations be sure to explain which date you ar
 e making reservations for.\n\nAfter a morning snack &amp\; restroom break 
 along the way our first stop will be at Petersen &amp\; Tietz Greenhouse i
 n Waterloo.  This is family owned and has been in business for 82 years.
   They are known for their specialty plants and offer a wide variety of a
 nnuals. Our next greenhouse stop is at Corner Market in Oelwein\, also a f
 amily owned business. They pride themselves on a large variety of "thrille
 r\, spiller &amp\; filler" plants and perennials. Hope you bring your appe
 tite as our next stop will be a family style Amish meal!  After lunch our
  final greenhouse stop brings our group to K &amp\; K Gardens in Hawkeye o
 wned by a husband &amp\; wife\, where a display of gardens\, perennials\, 
 annuals\, ornamental trees with garden art await our gardeners!\n\nJust a 
 reminder that a truck &amp\; trailer will be accompanying our group to hou
 se your purchases (not responsible for loss of plants or breakage of items
  purchased).  Each item must be labeled with a return address label for v
 erification when unloading the trailer - so bring plenty of labels!\n\nThi
 s will be a popular trip - so call early to make your reservation! It is s
 o fun to travel along with friends &amp\; family to share/swap garden stor
 ies! This trip is limited to 32 travelers due to available space!\n\nDepar
 t:  6:15 a.m.\nReturn:  7:15 p.m.\n\nCost Per Person:  $136.00\n\nReser
 vation and payment due by April 13\, 2017
ATTACH;FMTTYPE=image/jpeg:https://jhtraveltours.com/wp-content/uploads/201
 6/10/Garden-Day-1.png
CATEGORIES:Day Trip
END:VEVENT
BEGIN:VTIMEZONE
TZID:America/Chicago
X-LIC-LOCATION:America/Chicago
BEGIN:DAYLIGHT
DTSTART:20170312T030000
TZOFFSETFROM:-0600
TZOFFSETTO:-0500
TZNAME:CDT
END:DAYLIGHT
END:VTIMEZONE
END:VCALENDAR