BEGIN:VCALENDAR
VERSION:2.0
PRODID:-//wp-events-plugin.com//7.2.3.1//EN
TZID:America/Chicago
X-WR-TIMEZONE:America/Chicago
BEGIN:VEVENT
UID:211@jhtraveltours.com
DTSTART;TZID=America/Chicago:20170503T060000
DTEND;TZID=America/Chicago:20170503T191500
DTSTAMP:20161101T032016Z
URL:https://jhtraveltours.com/events/lets-go-gardeners-day-2/
SUMMARY:Let’s Go Gardeners! – Day #2 - #_LOCATIONNAME - 3 May 17 06:00
DESCRIPTION:Back by request is this one day garden trip to Hornbaker Garden
 s (Princeton\, IL) and Sunnyfield Greenhouse &amp\; Garden Center (Galva\,
  IL) on May 3rd! We are also offering an additional one day garden trip on
  May 1\, 2017 (different greenhouses) - when making reservations be sure t
 o explain which date you are making reservations for. \n\nFollowing a morn
 ing break and snack along the way our first stop will be at Hornbaker Gard
 ens. This is a complete garden center that is known for a huge inventory o
 f hostas\, hundreds of perennials\, annuals\, grasses\, trees\, shrubs\, a
 quatic plants\, pottery and garden art! A boxed lunch will be delivered to
  be eaten while on the road to Sunnyfield Greenhouse and Garden Center. 
   Sunnyfield has over 28\,000 sq ft offering a variety of annuals\, peren
 nials\, vine and vegetables and ceramic pots. Both greenhouses that will b
 e visited are family owned businesses.\n\nJust a reminder that a truck &am
 p\; trailer will be accompanying our group to house your purchases (not re
 sponsible for loss of plants or breakage of items purchased).  Each item 
 must be labeled with a return address label for verification when unloadin
 g the trailer - so bring plenty of labels!\n\nThis will be a popular trip 
 - so call early to make your reservation! It is so fun to travel along wit
 h friends &amp\; family to share/swap garden stories! This trip is limited
  to 30 travelers due to available space! \n\nDepart:  6:00 a.m.\nReturn:
   7:15 p.m.\n\nCost Per Person:  $136.00\n\nReservation and payment due 
 by April 13\, 2017 
ATTACH;FMTTYPE=image/jpeg:https://jhtraveltours.com/wp-content/uploads/201
 6/10/Greenhouse-Day-2.png
CATEGORIES:Day Trip
END:VEVENT
BEGIN:VTIMEZONE
TZID:America/Chicago
X-LIC-LOCATION:America/Chicago
BEGIN:DAYLIGHT
DTSTART:20170312T030000
TZOFFSETFROM:-0600
TZOFFSETTO:-0500
TZNAME:CDT
END:DAYLIGHT
END:VTIMEZONE
END:VCALENDAR