BEGIN:VCALENDAR
VERSION:2.0
PRODID:-//wp-events-plugin.com//7.2.3.1//EN
TZID:America/Chicago
X-WR-TIMEZONE:America/Chicago
BEGIN:VEVENT
UID:161@jhtraveltours.com
DTSTART;TZID=America/Chicago:20160502T053000
DTEND;TZID=America/Chicago:20160502T201500
DTSTAMP:20150802T005521Z
URL:https://jhtraveltours.com/events/lets-go-gardeners-may-2/
SUMMARY:Let's Go Gardeners - May 2 - #_LOCATIONNAME - 2 May 16 05:30
DESCRIPTION:Attention All Gardeners! JH Travel has planned a special one da
 y trip visiting Gertens\, Farmington Greenhouse &amp\; the Rusty Rabbitiqu
 e in Minnesota! \n\nAn early morning departure traveling to Gertens in Inv
 er Grove Heights\, MN where everyone will have three hours to "try" to che
 ck everything out! Situated on 100 acres this business offers a vast amoun
 t of annuals\, baskets\, perennials\, shrubs\, trees\, pottery\, house war
 es - just about everything!!! Subway will deliver our lunch\, which will b
 e eaten on the way to Farmington Greenhouse which is also a family owned b
 usiness with very unusual\, unique annuals and carry a full line of perenn
 ials. Garden decor\, re-purchased items\, furniture along with unique item
 s will greet us at the Rusty Rabbitiques\, also located in Farmington. Wel
 l\, by this time the trailer will be getting close to full so it is time t
 o head back to Newton with great memories of our second annual garden trip
 ! \n\nJust a reminder that a truck &amp\; trailer will be accompanying our
  group to house your purchases (not responsible for loss of plants or brea
 kage of items purchased). Each item must be labeled with a return address 
 label for verification when unloading the trailer - so bring plenty of lab
 els! \n\nHope to have you join us for this one day garden trip as we will 
 be offering this same day trip twice to accommodate our travelers. This wi
 ll be a popular trip - so call early to make your reservation! It is so fu
 n to travel along with friends &amp\; family to share/swap garden stories!
  This trip is limited to 30 travelers due to available space! \n\nDepart: 
 5:30 a.m. \n\nReturn: 8:15 p.m. \n\nCost Per Person: $134.00 \n\nReservati
 on and payment due by April 14\, 2016 
ATTACH;FMTTYPE=image/jpeg:https://jhtraveltours.com/wp-content/uploads/201
 5/08/Gertens_building-e1438476780886.jpg
CATEGORIES:Day Trip
END:VEVENT
BEGIN:VTIMEZONE
TZID:America/Chicago
X-LIC-LOCATION:America/Chicago
BEGIN:DAYLIGHT
DTSTART:20160313T030000
TZOFFSETFROM:-0600
TZOFFSETTO:-0500
TZNAME:CDT
END:DAYLIGHT
END:VTIMEZONE
END:VCALENDAR