BEGIN:VCALENDAR
VERSION:2.0
PRODID:-//wp-events-plugin.com//7.2.3.1//EN
TZID:America/Chicago
X-WR-TIMEZONE:America/Chicago
BEGIN:VEVENT
UID:373@jhtraveltours.com
DTSTART;TZID=America/Chicago:20220503T054500
DTEND;TZID=America/Chicago:20220503T193000
DTSTAMP:20220316T055041Z
URL:https://jhtraveltours.com/events/lets-go-gardeners-may-3rd/
SUMMARY:Let's Go Gardeners - May 3rd - #_LOCATIONNAME - 3 May 22 05:45
DESCRIPTION:This garden trip is featuring Mennonite greenhouses located by 
 Ionia and Alta Vista\, IA and included is a family style meal at E &amp\; 
 E Confections for lunch. (LIMIT OF 32 GARDENERS PER TRIP DUE TO TRAILER CA
 PACITY). \n\nMuffins &amp\; water will be served for a morning snack on ou
 r way to Cedar Falls for a restroom break at McDonalds. Our first greenhou
 se is KR Greenhouse and is known for their hanging baskets (over 3\,000)\,
  succulents\, tropical plants\, garden art &amp\; geraniums (great news - 
 he has added bathrooms!). We then travel two miles to Hoover's Greenhouse 
 which offers garden art\, unusual plants in garden pots\, succulent wreath
 s and bathrooms! Lunch will be ready for our group served family style wit
 h fried chicken\, meat balls\, cheesy shredded potatoes\, French green bea
 ns\, rolls\, salad\, 2 pie selections &amp\; ice cream or bread pudding wi
 th drink - be sure to bring along your appetite!\n\nOur coach will take us
  a couple miles down the road to Windy Ridge Greenhouse that offers a vari
 ety of wooden planters &amp\; tropical plants. A quick stop at McDonalds f
 or an evening meal &amp\; rest room stop before arriving back to Newton to
  unload our plants!\n\nJust a reminder that a truck &amp\; trailer will be
  accompanying our group to house your purchases (not responsible for loss 
 of plants or breakage of items purchased.)  Each item must be labeled wit
 h a return address label for verification when unloading the trailer - so 
 bring plenty of labels!\n\nDepart:  5:45 a.m.\n\nReturn:  7:30 p.m.\n\nC
 ost Per Person: $146.00\n\nReservation and payment due by April 8\, 2022
CATEGORIES:Day Trip
END:VEVENT
BEGIN:VTIMEZONE
TZID:America/Chicago
X-LIC-LOCATION:America/Chicago
BEGIN:DAYLIGHT
DTSTART:20220313T030000
TZOFFSETFROM:-0600
TZOFFSETTO:-0500
TZNAME:CDT
END:DAYLIGHT
END:VTIMEZONE
END:VCALENDAR