BEGIN:VCALENDAR
VERSION:2.0
PRODID:-//wp-events-plugin.com//7.2.3.1//EN
TZID:America/Chicago
X-WR-TIMEZONE:America/Chicago
BEGIN:VEVENT
UID:396@jhtraveltours.com
DTSTART;TZID=America/Chicago:20230509T054500
DTEND;TZID=America/Chicago:20230509T194500
DTSTAMP:20230401T035018Z
URL:https://jhtraveltours.com/events/lets-go-gardeners/
SUMMARY:Let's Go Gardeners! - #_LOCATIONNAME - 9 May 23 05:45
DESCRIPTION:Our garden trip is featuring Mennonite greenhouses located by I
 onia\, Elma &amp\; Riceville\, IA and included is a family style meal at E
  &amp\; E Confections for lunch. (LIMIT OF 25 GARDENERS PER TRIP DUE TO TR
 AILER CAPACITY) \n\n&nbsp\;\n\nMuffins &amp\; water will be served for a m
 orning snack on our way to Cedar Falls for a restroom break at McDonalds. 
 Our first greenhouse is KR Greenhouse and is known for their hanging baske
 ts (over 3\,000)\, succulents\, tropical plants\, garden art &amp\; gerani
 ums (great news - he has  bathrooms!). We then travel a few miles to Wind
 y Ridge Greenhouse (first visit last year) where they are known for their 
 begonias\, calla lilies &amp\; trellis vegetables.  Lunch will be ready f
 or our group served family style with brisket\, sliced ham\, cheesy shredd
 ed potatoes\, barbeque green beans\, homemade noodles\, pickled beets\, po
 tato salad\, rolls\, 3 pie selections with drink - be sure to bring along 
 your appetite!\n\n&nbsp\;\n\nOur coach will take us a couple miles down th
 e road to Acme Greenhouse (new to our itinerary for this year) that offers
  a variety of hydrangeas\, perennials and bedding vegetables!\n\n&nbsp\;\n
 \nA quick stop for a restroom &amp\; evening snack before arriving back to
  Newton to unload our plants!\n\n&nbsp\;\n\nJust a reminder that a truck &
 amp\; trailer will be accompanying our group to house your purchases (not 
 responsible for loss of plants or breakage of items purchased.)  Each ite
 m must be labeled with a return address label for verification when unload
 ing the trailer - so bring plenty of labels! Seriously\, bring lots of lab
 els!!! \n\n&nbsp\;\n\nDepart:  5:45 a.m.\n\nReturn:  7:45 p.m.\n\n&nbsp\
 ;\n\nCost Per Person: $168.00\n\n&nbsp\;\n\nReservation and payment due by
  April 14\, 2023 \n\n&nbsp\;\n\n&nbsp\;\nSign up for our newsletter to get
  exclusive information!\n[mc4wp_form id=648]
ATTACH;FMTTYPE=image/jpeg:https://jhtraveltours.com/wp-content/uploads/202
 3/03/greenhouse.jpeg
CATEGORIES:Day Trip
END:VEVENT
BEGIN:VTIMEZONE
TZID:America/Chicago
X-LIC-LOCATION:America/Chicago
BEGIN:DAYLIGHT
DTSTART:20230312T030000
TZOFFSETFROM:-0600
TZOFFSETTO:-0500
TZNAME:CDT
END:DAYLIGHT
END:VTIMEZONE
END:VCALENDAR