BEGIN:VCALENDAR
VERSION:2.0
PRODID:-//wp-events-plugin.com//7.2.3.1//EN
TZID:America/Chicago
X-WR-TIMEZONE:America/Chicago
BEGIN:VEVENT
UID:387@jhtraveltours.com
DTSTART;TZID=America/Chicago:20230413T153000
DTEND;TZID=America/Chicago:20230413T231500
DTSTAMP:20230203T062646Z
URL:https://jhtraveltours.com/events/lion-king/
SUMMARY:Lion King - #_LOCATIONNAME - 13 Apr 23 15:30
DESCRIPTION:April 13\, 2023 (Thursday) \n\nThere is simply nothing else lik
 e THE LION KING.\n\nOur trip begins with a family style meal hosted by Iow
 a Machine Shed followed by the "Lion King" production!\n\nGiraffes strut.
   Birds swoop.  Gazelles leap.  The entire Serengeti comes to life as n
 ever before.  And as the music soars\, Pride Rock slowly emerges from the
  mist. This is Disney’s THE LION KING\, making its triumphant return to 
 Des Moines Performing Arts!\n\nMore than 100 million people around the wor
 ld have experienced the awe-inspiring visual artistry\, the unforgettable 
 music\, and the uniquely theatrical storytelling of this Broadway spectacu
 lar – one of the most breathtaking and beloved productions ever to grace
  the stage.\n\nWinner of six Tony Awards®\, including Best Musical\, THE 
 LION KING brings together one of the most imaginative creative teams on Br
 oadway.  Tony Award®-winning director Julie Taymor brings to life a stor
 y filled with hope and adventure set against an amazing backdrop of stunni
 ng visuals and Broadway’s most recognizable music\, crafted by Tony Awar
 d®-winning artists Elton John and Tim Rice.\n\nThis will be a popular tri
 p - so don't wait too long to sign up &amp\; pay your deposit!\n\n&nbsp\;\
 n\nDepart:  3:30 p.m.\n\nReturn:  11:15 p.m.\n\n&nbsp\;\n\nCost Per Pers
 on: $239.00\n\n&nbsp\;\n\n($100.00 NON REFUNDABLE DEPOSIT IS DUE AT THE TI
 ME OF SIGNUP WITH THE REMAINDER DUE BY FEBRUARY 1\, 2023). \n\n \n\nFinal
  balance due: February 1\, 2023 \n\n&nbsp\;\n\n&nbsp\;\nSign up for our ne
 wsletter to get exclusive information!\n[mc4wp_form id=648]
ATTACH;FMTTYPE=image/jpeg:https://jhtraveltours.com/wp-content/uploads/202
 2/11/LionKing.jpg
CATEGORIES:Day Trip
END:VEVENT
BEGIN:VTIMEZONE
TZID:America/Chicago
X-LIC-LOCATION:America/Chicago
BEGIN:DAYLIGHT
DTSTART:20230312T030000
TZOFFSETFROM:-0600
TZOFFSETTO:-0500
TZNAME:CDT
END:DAYLIGHT
END:VTIMEZONE
END:VCALENDAR