BEGIN:VCALENDAR
VERSION:2.0
PRODID:-//wp-events-plugin.com//7.2.3.1//EN
TZID:America/Chicago
X-WR-TIMEZONE:America/Chicago
BEGIN:VEVENT
UID:67@jhtraveltours.com
DTSTART;TZID=America/Chicago:20130807T131500
DTEND;TZID=America/Chicago:20130807T194500
DTSTAMP:20121006T031222Z
URL:https://jhtraveltours.com/events/lumberjacks-in-love/
SUMMARY:Lumberjacks in Love - #_LOCATIONNAME - 7 Aug 13 13:15
DESCRIPTION:Four manly lumberjacks living the life of bachelors in their no
 rthern Wisconsin camp seem perfectly happy tucked away from civilization 
 – and women.  But\, when a mail order bride comes calling\, everything 
 changes.  Join Minnesota Slim\, Dirty Bob\, Muskrat\, Moonlight and The K
 id\, as they tell in song and dance the wonders and woes of being a lumber
 jack in love!\n\nThis matinee production will be at the Old Creamery Theat
 re in Amana followed by an evening meal at The Ronneburg Restaurant with a
 ll our favorite Amana fixings! Meet new friends\, enjoy the musical comedy
  and wonderful food – don’t wait too long as this one will be a popula
 r trip!
CATEGORIES:Day Trip
LOCATION:#_LOCATIONNAME\, #_LOCATIONFULLLINE\, #_LOCATIONCOUNTRY
GEO:41.8063;-91.8843
X-APPLE-STRUCTURED-LOCATION;VALUE=URI;X-ADDRESS=#_LOCATIONFULLLINE\, #_LOCA
 TIONCOUNTRY;X-APPLE-RADIUS=100;X-TITLE=#_LOCATIONNAME:geo:41.8063,-91.8843
END:VEVENT
BEGIN:VTIMEZONE
TZID:America/Chicago
X-LIC-LOCATION:America/Chicago
BEGIN:DAYLIGHT
DTSTART:20130310T030000
TZOFFSETFROM:-0600
TZOFFSETTO:-0500
TZNAME:CDT
END:DAYLIGHT
END:VTIMEZONE
END:VCALENDAR