BEGIN:VCALENDAR
VERSION:2.0
PRODID:-//wp-events-plugin.com//7.2.3.1//EN
TZID:America/Chicago
X-WR-TIMEZONE:America/Chicago
BEGIN:VEVENT
UID:299@jhtraveltours.com
DTSTART;TZID=America/Chicago;VALUE=DATE:20190915
DTEND;TZID=America/Chicago;VALUE=DATE:20190922
DTSTAMP:20190307T044757Z
URL:https://jhtraveltours.com/events/mackinac-island-2019/
SUMMARY:Mackinac Island 2019 - #_LOCATIONNAME - 15 Sep 19 00:00
DESCRIPTION:\n\nYour trip includes:\n\n 	Motorcoach transportation\n 	6 nig
 hts lodging including 4 consecutive nights in Northern Michigan\n 	10 meal
 s: 6 breakfasts and 4 dinners\n 	Guided Tour of Mackinaw City\n 	Visit to 
 Mackinac Island\, including a Guided Carriage Tour\n 	Boat ride through th
 e Soo Locks and free time and sightseeing in Sault Sainte Marie\n 	Visit t
 o Mackinaw Crossings\n 	Admission to Colonial Michilimackinac\n 	and much 
 more\n\n[pdf-embedder url="https://jhtraveltours.com/wp-content/uploads/20
 19/03/1551071-7B04061406_1.pdf" title="Mackinac Island 2019"]\n\n[pdf-embe
 dder url="https://jhtraveltours.com/wp-content/uploads/2019/03/Travel-Conf
 ident-Insurance.pdf" title="Travel Confident Insurance"]
ATTACH;FMTTYPE=image/jpeg:https://jhtraveltours.com/wp-content/uploads/201
 9/03/Trip-Header-1.png
CATEGORIES:Extended Trip
END:VEVENT
BEGIN:VTIMEZONE
TZID:America/Chicago
X-LIC-LOCATION:America/Chicago
BEGIN:DAYLIGHT
DTSTART:20190310T030000
TZOFFSETFROM:-0600
TZOFFSETTO:-0500
TZNAME:CDT
END:DAYLIGHT
END:VTIMEZONE
END:VCALENDAR