BEGIN:VCALENDAR
VERSION:2.0
PRODID:-//wp-events-plugin.com//7.2.3.1//EN
TZID:America/Chicago
X-WR-TIMEZONE:America/Chicago
BEGIN:VEVENT
UID:308@jhtraveltours.com
DTSTART;TZID=America/Chicago;VALUE=DATE:20210912
DTEND;TZID=America/Chicago;VALUE=DATE:20210919
DTSTAMP:20200630T213020Z
URL:https://jhtraveltours.com/events/mackinac-island-2021/
SUMMARY:Mackinac Island 2021 - #_LOCATIONNAME - 12 Sep 21 00:00
DESCRIPTION:\n\n 	Motorcoach transportation\n 	6 nights lodging\, including
  4 consecutive nights in Northern Michigan.\n 	10 Meals: 6 Breakfasts and 
 4 Dinners.\n 	Guided Tour of Mackinaw City\n 	Visit to Mackinac Island\, i
 ncluding a Guided Carriage Tour\n 	Boat ride through the Soo Locks and fre
 e time and sightseeing in Sault Sainte Marie\n 	Visit to Mackinaw Crossing
 s\n 	Admission to Colonial Michilimackinac\n 	and much more\n\n[pdf-embedd
 er url="https://jhtraveltours.com/wp-content/uploads/2019/07/MackinacIslan
 d2021.pdf"]\n\n[pdf-embedder url="https://jhtraveltours.com/wp-content/upl
 oads/2019/07/TravelInsuranceFlyer.pdf"]
ATTACH;FMTTYPE=image/jpeg:https://jhtraveltours.com/wp-content/uploads/201
 9/07/MackinacIsland2021.png
CATEGORIES:Extended Trip
END:VEVENT
BEGIN:VTIMEZONE
TZID:America/Chicago
X-LIC-LOCATION:America/Chicago
BEGIN:DAYLIGHT
DTSTART:20210314T030000
TZOFFSETFROM:-0600
TZOFFSETTO:-0500
TZNAME:CDT
END:DAYLIGHT
END:VTIMEZONE
END:VCALENDAR