BEGIN:VCALENDAR
VERSION:2.0
PRODID:-//wp-events-plugin.com//7.2.3.1//EN
TZID:America/Chicago
X-WR-TIMEZONE:America/Chicago
BEGIN:VEVENT
UID:358@jhtraveltours.com
DTSTART;TZID=America/Chicago;VALUE=DATE:20220911
DTEND;TZID=America/Chicago;VALUE=DATE:20220918
DTSTAMP:20210824T220622Z
URL:https://jhtraveltours.com/events/mackinac-island-2022/
SUMMARY:Mackinac Island 2022 - #_LOCATIONNAME - 11 Sep 22 00:00
DESCRIPTION:[pdf-embedder url="https://jhtraveltours.com/wp-content/uploads
 /2021/08/1852144-Flyer.pdf" title="Mackinac 2022"]\n\nDownload pdf here.\n
 \n&nbsp\;\n\nInsurance Flyer:\n\n[pdf-embedder url="https://jhtraveltours.
 com/wp-content/uploads/2021/08/Virginia-Beach-INS-2022.pdf" title="Virgini
 a Beach INS 2022"]\n\nDownload pdf here.
CATEGORIES:Extended Trip
END:VEVENT
BEGIN:VTIMEZONE
TZID:America/Chicago
X-LIC-LOCATION:America/Chicago
BEGIN:DAYLIGHT
DTSTART:20220313T030000
TZOFFSETFROM:-0600
TZOFFSETTO:-0500
TZNAME:CDT
END:DAYLIGHT
END:VTIMEZONE
END:VCALENDAR