BEGIN:VCALENDAR
VERSION:2.0
PRODID:-//wp-events-plugin.com//7.2.3.1//EN
TZID:America/Chicago
X-WR-TIMEZONE:America/Chicago
BEGIN:VEVENT
UID:260@jhtraveltours.com
DTSTART;TZID=America/Chicago;VALUE=DATE:20190616
DTEND;TZID=America/Chicago;VALUE=DATE:20190623
DTSTAMP:20180225T200404Z
URL:https://jhtraveltours.com/events/mackinac-island/
SUMMARY:Mackinac Island - #_LOCATIONNAME - 16 Jun 19 00:00
DESCRIPTION:Departure: Walmart\, 3021 1st Ave. E\, Newton\, IA @ 8 am\n\nDa
 y 1: Board your spacious\, video\, and restroom equipped Motorcoach and se
 t off for Northern Michigan. Enjoy the beautiful scenery along the way bef
 ore checking into your en route hotel tonight.\n\nDay 2: After enjoying a 
 Continental Breakfast\, you’ll continue towards Norther Michigan. Later\
 , you’ll arrive at your destination. This evening\, you will enjoy Dinne
 r and check into your hotel for a four-night stay.\n\nDay 3: After today
 ’s Continental Breakfast\, head for Sault Sainte Marie\, MI and take an 
 exciting cruise through the Soo Locks. Next enjoy lunch on your own and sp
 end some free time in Sault Sainte Marie. Watch ships enter and depart fro
 m the Locks from the observation area or browse the unique local shops and
  boutiques. Later\, enjoy Dinner at a local restaurant. Tonight\, you will
  see the Lumber Jack Show as arranged by your Group Leader.\n\nDay 4: Afte
 r enjoying a Continental Breakfast\, your adventure begins with a ferryboa
 t ride to peaceful Mackinac Island where the only mode of transportation i
 s by Horse and Carriage. Take a leisurely carriage ride tour of the island
  and see splendid sites like the Arch Rock and Lilac Lane. Later you Group
  Leader has arranged lunch at the Grand Hotel. Next\, enjoy some free time
  to explore this quaint island. Later\, cross the Straits of Mackinac agai
 n and enjoy a lovely Dinner at a local restaurant.\n\nDay 5: After enjoyin
 g a Continental breakfast\, you’ll take a Guided Tour of quaint Mackinaw
  City. Next\, see the Old Mackinac Point Lighthouse\, dating back to 1892.
  After some free time at Mackinaw Crossings\, visit Colonial Michilimackin
 ac.\n\nDay 6: Enjoy a Continental Breakfast before leaving for “Michigan
 ’s Little Bavaria”\, Frankenmuth\, MI. This evening\, relax at your en
  route hotel.\n\nDay 7: Today you’ll enjoy a Continental Breakfast and d
 epart for home… a perfect time to chat with your friends about all the f
 un things you’ve done\, the great sights you’ve seen and where your ne
 xt group trip will take you!\n\nYour Trip Includes:\n\n 	Motorcoach transp
 ortation\n 	6 nights lodging including 4 consecutive nights in Northern Mi
 chigan\n 	10 meals: 6 breakfasts and 4 dinners\n 	Guided Tour of Mackinaw 
 City\n 	Visit to Mackinac Island\, including a Guided Carriage Tour\n 	Boa
 t ride through the Soo Locks and free time and sight-seeing in Sault Saint
 e Marie\n 	Visit to Mackinaw Crossings\n 	Admission to Colonial Michilimac
 kinac\n 	and much more\n\n$766* 7 Days 6 nights\n$75 Due Upon Signing.\n\n
 *Price per person\, based on double occupancy. Add $200 for single occupan
 cy.\n\nFinal Payment Due 4/9/2019\n\n[gview file="https://jhtraveltours.co
 m/wp-content/uploads/2018/02/Mackinac.pdf"]\n\n[gview file="https://jhtrav
 eltours.com/wp-content/uploads/2018/02/MacTravelInsuranceFlyer.pdf"]
ATTACH;FMTTYPE=image/jpeg:https://jhtraveltours.com/wp-content/uploads/201
 8/02/Mackinac.png
CATEGORIES:Extended Trip
END:VEVENT
BEGIN:VTIMEZONE
TZID:America/Chicago
X-LIC-LOCATION:America/Chicago
BEGIN:DAYLIGHT
DTSTART:20190310T030000
TZOFFSETFROM:-0600
TZOFFSETTO:-0500
TZNAME:CDT
END:DAYLIGHT
END:VTIMEZONE
END:VCALENDAR