BEGIN:VCALENDAR
VERSION:2.0
PRODID:-//wp-events-plugin.com//7.2.3.1//EN
TZID:America/Chicago
X-WR-TIMEZONE:America/Chicago
BEGIN:VEVENT
UID:198@jhtraveltours.com
DTSTART;TZID=America/Chicago:20170420T121500
DTEND;TZID=America/Chicago:20170420T190000
DTSTAMP:20170215T170211Z
URL:https://jhtraveltours.com/events/making-god-laugh/
SUMMARY:Making God Laugh - #_LOCATIONNAME - 20 Apr 17 12:15
DESCRIPTION:This is the first "2017" Old Creamery Theatre Main Stage show a
 nd JH Travel is ready! Join us for the premium front &amp\; center seating
  that we have come to love for this matinee show!\n\nMaking God Laugh foll
 ows one typical\, and very funny\, American family over the course of thir
 ty years' worth of holidays. Starting in 1980\, Ruthie and Bill's grown ch
 ildren - a priest\, an aspiring actress\, and a former football star - all
  return home\, where we learn of their plans and dreams as they embark on 
 their adult lives. As time passes\, the family discovers that\, despite wh
 at we may have in mind\, we often arrive at unexpected destinations.\n\n\n
 \nAfter the show enjoy an evening meal at the English Valley Bed &amp\; Br
 eakfast located near Montezuma. Make sure to bring along your appetite!\n\
 nDepart: 12:15 p.m.\nReturn: 7:00 p.m.\n\nCost Per Person: $103.00\n\nRese
 rvation and payment due by April 3\, 2017
ATTACH;FMTTYPE=image/jpeg:https://jhtraveltours.com/wp-content/uploads/201
 6/08/MakingGodLaugh.png
CATEGORIES:Day Trip
END:VEVENT
BEGIN:VTIMEZONE
TZID:America/Chicago
X-LIC-LOCATION:America/Chicago
BEGIN:DAYLIGHT
DTSTART:20170312T030000
TZOFFSETFROM:-0600
TZOFFSETTO:-0500
TZNAME:CDT
END:DAYLIGHT
END:VTIMEZONE
END:VCALENDAR