BEGIN:VCALENDAR
VERSION:2.0
PRODID:-//wp-events-plugin.com//7.2.3.1//EN
TZID:America/Chicago
X-WR-TIMEZONE:America/Chicago
BEGIN:VEVENT
UID:231@jhtraveltours.com
DTSTART;TZID=America/Chicago:20181017T091500
DTEND;TZID=America/Chicago:20181017T184500
DTSTAMP:20170714T020447Z
URL:https://jhtraveltours.com/events/mama-wont-fly/
SUMMARY:Mama Won't Fly - #_LOCATIONNAME - 17 Oct 18 09:15
DESCRIPTION:Our group loves going to the Circa 21 Dinner Playhouse and this
  show promises to bring laughter and fun on this afternoon getaway to Rock
  Island\, IL!\n\nAn outrageously hilarious race against the clock begins w
 hen Savannah Sprunt Fairchild Honeycutt agrees to get her feisty mother\, 
 Norleen all the way from Alabama to California in time for her brother's w
 edding. Savannah's problem: Mama won't fly.  As she steels herself for th
 is hastily conceived road trip\, another outrageous complication arises: t
 he bubbly\, over-eager bride-to-be arrives unannounced. Hayley Quinn\, del
 ighted to finally meet her future in-laws\, is convinced that traveling to
 gether to her wedding is the perfect way to bond. The folly of her decisio
 n quickly becomes apparent when the journey begins and comedic chaos ensue
 s.  Eventually the race to get to the church takes its toll and the bride
 -to-be calls off the wedding.  Rising above their age-old mother-daughter
  issues\, Norleen and Savannah work together to get the nuptials back on t
 rack\, and welcome Hayley into their delightfully wacky family!\n\nJoin JH
  Travel for this comedy afternoon outing at Circa 21 Dinner Playhouse! Don
 't wait too long to make those reservations to join us!\n\nDepart: 9:15 a.
 m.\nReturn:  6:45 p.m.\n\nCost Per Person:  $127.00\n\nReservation and p
 ayment due by September 12\, 2018
ATTACH;FMTTYPE=image/jpeg:https://jhtraveltours.com/wp-content/uploads/201
 7/07/MamaWontFly.jpg
CATEGORIES:Day Trip
END:VEVENT
BEGIN:VTIMEZONE
TZID:America/Chicago
X-LIC-LOCATION:America/Chicago
BEGIN:DAYLIGHT
DTSTART:20180311T030000
TZOFFSETFROM:-0600
TZOFFSETTO:-0500
TZNAME:CDT
END:DAYLIGHT
END:VTIMEZONE
END:VCALENDAR