BEGIN:VCALENDAR
VERSION:2.0
PRODID:-//wp-events-plugin.com//7.2.3.1//EN
TZID:America/Chicago
X-WR-TIMEZONE:America/Chicago
BEGIN:VEVENT
UID:385@jhtraveltours.com
DTSTART;TZID=America/Chicago:20230621T091500
DTEND;TZID=America/Chicago:20230621T183000
DTSTAMP:20230203T062931Z
URL:https://jhtraveltours.com/events/mamma-mia-2/
SUMMARY:Mamma Mia - #_LOCATIONNAME - 21 Jun 23 09:15
DESCRIPTION:"Mamma Mia!" \n\nWednesday\, June 21\, 2023 \n\n“ABBA-solutel
 y fabulous!” \n\nThis is the very best "feel-good" show ever! This prod
 uction is our (Rick &amp\; Janie's) most favorite with the story line &amp
 \; the fabulous music! Join us for this fun\, musical matinee show at Circ
 a 21 Dinner Playhouse in June!\n\nOver 54 million people all around the wo
 rld have fallen in love with the characters\, the story and the music that
  make Mamma Mia! the ultimate feel-good show! A mother. A daughter. Three 
 possible dads. And a trip down the aisle you’ll never forget! Writer\, C
 atherine Johnson’s\, sunny and funny tale unfolds on a Greek island para
 dise. On the eve of her wedding\, a daughter’s quest to discover the ide
 ntity of her father brings three men from her mother’s past back to the 
 island they last visited 20 years ago.\n\nThe story-telling magic of ABBA
 ’s timeless songs propels this enchanting tale of  love\, laughter and 
 friendship\, creating an unforgettable show. A large cast\, nonstop laughs
  and explosive dance  numbers combine to make Mamma Mia! pure joy for aud
 iences!!\n\n&nbsp\;\n\nDepart:  9:15 a.m.\n\nReturn: 6:30 p.m.\n\n&nbsp\;
 \n\nCost Per Person:  $169.00\n\n&nbsp\;\n\n($100.00 NON REFUNDABLE DEPOS
 IT IS DUE AT THE TIME OF SIGNUP AND THE REMAINDER IS DUE BY MAY 5\, 2023).
  \n\n&nbsp\;\n\nReservation and payment due by MAY 5\, 2023 \n\n&nbsp\;\n\
 n&nbsp\;\nSign up for our newsletter to get exclusive information!\n[mc4wp
 _form id=648]\n\n&nbsp\;
ATTACH;FMTTYPE=image/jpeg:https://jhtraveltours.com/wp-content/uploads/202
 2/09/Mamma-Mia.webp
CATEGORIES:Day Trip
END:VEVENT
BEGIN:VTIMEZONE
TZID:America/Chicago
X-LIC-LOCATION:America/Chicago
BEGIN:DAYLIGHT
DTSTART:20230312T030000
TZOFFSETFROM:-0600
TZOFFSETTO:-0500
TZNAME:CDT
END:DAYLIGHT
END:VTIMEZONE
END:VCALENDAR