BEGIN:VCALENDAR
VERSION:2.0
PRODID:-//wp-events-plugin.com//7.2.3.1//EN
TZID:America/Chicago
X-WR-TIMEZONE:America/Chicago
BEGIN:VEVENT
UID:283@jhtraveltours.com
DTSTART;TZID=America/Chicago:20190912T121500
DTEND;TZID=America/Chicago:20190912T193000
DTSTAMP:20181230T032339Z
URL:https://jhtraveltours.com/events/mamma-mia-2019/
SUMMARY:Mamma Mia! - #_LOCATIONNAME - 12 Sep 19 12:15
DESCRIPTION:ABBA-solutely fabulous! Join JH Travel for this matinee show at
  Old Creamery Theatre for this feel-good show! A mother\, a daughter. Thre
 e possible dads. And a trip down the aisle you'll never forget!\n\nA young
  bride-to-be longs to discover just who her father is – only to learn th
 ere are three possible choices! Prepare to be swept away by the infectious
  music\, uplifting story\, and dazzling dance numbers that have made Mamma
  Mia! a glittering global phenomenon!\n\nSign up soon for this fun and hea
 rt-warming production! Evening meal will be hosted by Stacy &amp\; her gan
 g at English Valley B &amp\; B.\n\nDepart:  12:15 p.m.\n\nReturn:   7:3
 0 p.m.\n\nCost Per Person:  $114.00\n\nReservation and payment due by Aug
 ust 22\, 2019 
ATTACH;FMTTYPE=image/jpeg:https://jhtraveltours.com/wp-content/uploads/201
 7/09/MammaMiaIndex.jpg
CATEGORIES:Day Trip
END:VEVENT
BEGIN:VTIMEZONE
TZID:America/Chicago
X-LIC-LOCATION:America/Chicago
BEGIN:DAYLIGHT
DTSTART:20190310T030000
TZOFFSETFROM:-0600
TZOFFSETTO:-0500
TZNAME:CDT
END:DAYLIGHT
END:VTIMEZONE
END:VCALENDAR