BEGIN:VCALENDAR
VERSION:2.0
PRODID:-//wp-events-plugin.com//7.2.3.1//EN
TZID:America/Chicago
X-WR-TIMEZONE:America/Chicago
BEGIN:VEVENT
UID:241@jhtraveltours.com
DTSTART;TZID=America/Chicago:20180912T091500
DTEND;TZID=America/Chicago:20180912T184500
DTSTAMP:20170926T043259Z
URL:https://jhtraveltours.com/events/mamma-mia/
SUMMARY:Mamma Mia - #_LOCATIONNAME - 12 Sep 18 09:15
DESCRIPTION:September 12\, 2018 (Wednesday) \n\nABBA-solutely fabulous! Joi
 n JH Travel for this matinee show at Circa 21 Dinner Playhouse for this fe
 el-good show! Over 54 million people all around the world have fallen in l
 ove with the characters\, the story and the music that make "Mamma Mia!" t
 he ultimate feel-good show! A mother\, a daughter. Three possible dads. An
 d a trip down the aisle you'll never forget!\n\nWriter\, Catherine Johnson
 's\, sunny &amp\; funny tale unfolds on a Greek Island paradise. On the ev
 e of her wedding\, a daughter's quest to discover the identity of her fath
 er brings three men from her mother's past back to the island they visited
  20 years ago. The story telling magic of ABBA's timeless songs propels th
 is enchanting tale of love\, laughter and friendship\, creating an unforge
 ttable show! A large cast\, non-stop laughs and explosive dance numbers co
 mbine to make "Mamma Mia!" an explosive smash!\n\nSign up soon for this fu
 n and heart-warming production!\n\nDepart:  9:15 a.m.\n\nReturn: 6:45 p.m
 .\n\nCost Per Person:  $138.00\n\nReservation and payment due by August 2
 2\, 2018
ATTACH;FMTTYPE=image/jpeg:https://jhtraveltours.com/wp-content/uploads/201
 7/09/MammaMiaIndex.jpg
CATEGORIES:Day Trip
END:VEVENT
BEGIN:VTIMEZONE
TZID:America/Chicago
X-LIC-LOCATION:America/Chicago
BEGIN:DAYLIGHT
DTSTART:20180311T030000
TZOFFSETFROM:-0600
TZOFFSETTO:-0500
TZNAME:CDT
END:DAYLIGHT
END:VTIMEZONE
END:VCALENDAR