BEGIN:VCALENDAR
VERSION:2.0
PRODID:-//wp-events-plugin.com//7.2.3.1//EN
TZID:America/Chicago
X-WR-TIMEZONE:America/Chicago
BEGIN:VEVENT
UID:240@jhtraveltours.com
DTSTART;TZID=America/Chicago:20180517T091500
DTEND;TZID=America/Chicago:20180517T181500
DTSTAMP:20170926T035252Z
URL:https://jhtraveltours.com/events/man-in-black/
SUMMARY:Man in Black - #_LOCATIONNAME - 17 May 18 09:15
DESCRIPTION:You are invited to join JH Travel for a matinee concert product
 ion as we celebrate the life and music of Johnny Cash with this critically
  acclaimed show at Circa 21 Dinner Playhouse!\n\nFeaturing the most popula
 r songs from his nearly 50 year career\, Robert Shaw and his Lonely Street
  Band play your favorite Cash hits from the early days of "I Walk the Line
 " on through the decades\, including "Ring of Fire"\, "A Boy Named Sue"\, 
 and "Ghost Riders in the Sky".  This concert brings to life the authentic
  Cash sound that's been described as "steady like a train\, sharp like a r
 azor". With first rate costumes\, world class musicians and top notch prod
 uction values\, this is a must-see for anyone who's ever enjoyed the music
  of The Man in Black!\n\nLook forward to traveling with you soon!\n\n\n\nD
 epart: 9:15 a.m.\n\nReturn:  6:15 p.m.\n\nCost Per Person:  $138.00
ATTACH;FMTTYPE=image/jpeg:https://jhtraveltours.com/wp-content/uploads/201
 7/09/Man-in-Black.png
CATEGORIES:Day Trip
END:VEVENT
BEGIN:VTIMEZONE
TZID:America/Chicago
X-LIC-LOCATION:America/Chicago
BEGIN:DAYLIGHT
DTSTART:20180311T030000
TZOFFSETFROM:-0600
TZOFFSETTO:-0500
TZNAME:CDT
END:DAYLIGHT
END:VTIMEZONE
END:VCALENDAR