BEGIN:VCALENDAR
VERSION:2.0
PRODID:-//wp-events-plugin.com//7.2.3.1//EN
TZID:America/Chicago
X-WR-TIMEZONE:America/Chicago
BEGIN:VEVENT
UID:214@jhtraveltours.com
DTSTART;TZID=America/Chicago:20171104T060000
DTEND;TZID=America/Chicago:20171104T233000
DTSTAMP:20161205T054513Z
URL:https://jhtraveltours.com/events/meet-mall-2017/
SUMMARY:Meet You at The Mall 2017 - #_LOCATIONNAME - 4 Nov 17 06:00
DESCRIPTION:November 4\, 2017 (Saturday) \nRise and shine early! It is time
  to leave for our “day away” with friends or family for a fun time as 
 we travel to Bloomington\, MN to enjoy a day at the Mall of America and IK
 EA. \n\nJoin JH Travel as we head north to the mall that provides the larg
 est fully enclosed retail and entertainment complex in the United States. 
 IKEA will inspire us with new innovations in the world of home furnishings
 . Our Hawkeye Stages motor coach will provide shuttle runs between these t
 wo destinations during our fun day! \n\nWhile keeping this trip very affor
 dable it is required that we have 40 travelers so help make sure this trip
  will be rollin’ bright and early on November 4th. Mark your calendars\,
  be sure to invite other traveling friends along to join in our fun and th
 e next step is to call and make your reservations! It is not too early to 
 plan ahead for this fun day! \n\nDepart: 6:00 a.m.\nReturn: 11:30 p.m.\n\n
 Cost Per Person: $65.00\n\nReservations and payment due by October 18\, 20
 17
ATTACH;FMTTYPE=image/jpeg:https://jhtraveltours.com/wp-content/uploads/201
 3/11/Mall-of-America_1_0-620x379.jpg
CATEGORIES:Day Trip
END:VEVENT
BEGIN:VTIMEZONE
TZID:America/Chicago
X-LIC-LOCATION:America/Chicago
BEGIN:DAYLIGHT
DTSTART:20170312T030000
TZOFFSETFROM:-0600
TZOFFSETTO:-0500
TZNAME:CDT
END:DAYLIGHT
END:VTIMEZONE
END:VCALENDAR