BEGIN:VCALENDAR
VERSION:2.0
PRODID:-//wp-events-plugin.com//7.2.3.1//EN
TZID:America/Chicago
X-WR-TIMEZONE:America/Chicago
BEGIN:VEVENT
UID:175@jhtraveltours.com
DTSTART;TZID=America/Chicago:20161105T060000
DTEND;TZID=America/Chicago:20161105T233000
DTSTAMP:20160104T045625Z
URL:https://jhtraveltours.com/events/meet-you-at-the-mall-2016/
SUMMARY:Meet You at the Mall 2016 - #_LOCATIONNAME - 5 Nov 16 06:00
DESCRIPTION:Rise and shine early!  It is time to leave for our “day away
 ” with friends or family for a fun time as we travel to Bloomington\, MN
  to enjoy a day at the Mall of America and IKEA.  \n\nJoin JH Travel as w
 e head north to the mall that provides the largest fully enclosed retail a
 nd entertainment complex in the United States.  IKEA will inspire us with
  new innovations in the world of home furnishings.  Our Hawkeye Stages mo
 tor coach will provide shuttle runs between these two destinations during 
 our fun day!  \n\nWhile keeping this trip very affordable it is required 
 that we have 40 travelers so help make sure this trip will be rollin’ br
 ight and early on November 5th.  Mark your calendars\, be sure to invite 
 other traveling friends along to join in our fun and the next step is to c
 all and make your reservations!  It is not too early to plan ahead for th
 is fun day! \n\nDepart:  6:00 a.m.\nReturn:  11:30 p.m.\n\nCost Per Pers
 on:  $63.00\n\nReservations and payment due by October 19\, 2016
ATTACH;FMTTYPE=image/jpeg:https://jhtraveltours.com/wp-content/uploads/201
 3/11/Mall-of-America_1_0-620x379.jpg
CATEGORIES:Day Trip
END:VEVENT
BEGIN:VTIMEZONE
TZID:America/Chicago
X-LIC-LOCATION:America/Chicago
BEGIN:DAYLIGHT
DTSTART:20160313T030000
TZOFFSETFROM:-0600
TZOFFSETTO:-0500
TZNAME:CDT
END:DAYLIGHT
END:VTIMEZONE
END:VCALENDAR