BEGIN:VCALENDAR
VERSION:2.0
PRODID:-//wp-events-plugin.com//7.2.3.1//EN
TZID:America/Chicago
X-WR-TIMEZONE:America/Chicago
BEGIN:VEVENT
UID:45@jhtraveltours.com
DTSTART;TZID=America/Chicago:20121103T060000
DTEND;TZID=America/Chicago:20121103T233000
DTSTAMP:20120503T024920Z
URL:https://jhtraveltours.com/events/meet-you-at-the-mall/
SUMMARY:Meet You at the Mall - #_LOCATIONNAME - 3 Nov 12 06:00
DESCRIPTION:Rise and shine early!  It is time to leave for our “day away
 ” with friends or family for a fun time as we travel to Bloomington\, MN
  to enjoy a day at the Mall of America and IKEA.\n\nEveryone enjoyed this 
 outing in 2011 and so we are repeating this trip by request so join JH Tra
 vel as we head north to the mall that provides the largest fully enclosed 
 retail and entertainment complex in the United States.  IKEA will inspire
  us with new innovations in the world of home furnishings.  Our Hawkeye S
 tages motor coach will provide shuttle runs between these two destinations
  during our fun day!\n\nWhile keeping this trip very affordable it is requ
 ired that we have 40 travelers so help make sure this trip will be rollin
 ’ bright and early on November 3rd.  Mark your calendars\, be sure to i
 nvite other traveling friends along to join in our fun and the next step i
 s to call and place your reservations!  It is not too early to plan ahead
  for this fun day!\n\nDepart:  6:00 a.m.\n\nReturn:  11:30 p.m.\n\nReser
 vations and payment due by October 19\, 2012
CATEGORIES:Day Trip
END:VEVENT
BEGIN:VTIMEZONE
TZID:America/Chicago
X-LIC-LOCATION:America/Chicago
BEGIN:DAYLIGHT
DTSTART:20120311T030000
TZOFFSETFROM:-0600
TZOFFSETTO:-0500
TZNAME:CDT
END:DAYLIGHT
END:VTIMEZONE
END:VCALENDAR