BEGIN:VCALENDAR
VERSION:2.0
PRODID:-//wp-events-plugin.com//7.2.3.1//EN
TZID:America/Chicago
X-WR-TIMEZONE:America/Chicago
BEGIN:VEVENT
UID:29@jhtraveltours.com
DTSTART;TZID=America/Chicago:20120428T123000
DTEND;TZID=America/Chicago:20120428T190000
DTSTAMP:20120403T024212Z
URL:https://jhtraveltours.com/events/memphis/
SUMMARY:Memphis - #_LOCATIONNAME - 28 Apr 12 12:30
DESCRIPTION:Join JH Travel for this matinee production at the Civic Center 
 of Greater Des Moines followed by an evening meal at Chicago Speakeasy in 
 Des Moines\, Iowa.\n\nTURN UP THAT DIAL... From the underground dance club
 s of 1950s Memphis\, Tennessee\, comes a hot new Broadway musical that bur
 sts off the stage with explosive dancing\, irresistible songs and a thrill
 ing tale of fame and forbidden love. Inspired by actual events\, “Memphi
 s” is about a white radio DJ who wants to change the world and a black c
 lub singer who is ready for her big break. Come along on their incredible 
 journey to the ends of the airwaves -- filled with laughter\, soaring emot
 ion and roof-raising rock 'n' roll.\n\n
CATEGORIES:Day Trip
LOCATION:#_LOCATIONNAME\, #_LOCATIONFULLLINE\, #_LOCATIONCOUNTRY
GEO:41.5869;-93.62
X-APPLE-STRUCTURED-LOCATION;VALUE=URI;X-ADDRESS=#_LOCATIONFULLLINE\, #_LOCA
 TIONCOUNTRY;X-APPLE-RADIUS=100;X-TITLE=#_LOCATIONNAME:geo:41.5869,-93.62
END:VEVENT
BEGIN:VTIMEZONE
TZID:America/Chicago
X-LIC-LOCATION:America/Chicago
BEGIN:DAYLIGHT
DTSTART:20120311T030000
TZOFFSETFROM:-0600
TZOFFSETTO:-0500
TZNAME:CDT
END:DAYLIGHT
END:VTIMEZONE
END:VCALENDAR