BEGIN:VCALENDAR
VERSION:2.0
PRODID:-//wp-events-plugin.com//7.2.3.1//EN
TZID:America/Chicago
X-WR-TIMEZONE:America/Chicago
BEGIN:VEVENT
UID:232@jhtraveltours.com
DTSTART;TZID=America/Chicago;VALUE=DATE:20180223
DTEND;TZID=America/Chicago;VALUE=DATE:20180306
DTSTAMP:20170811T033427Z
URL:https://jhtraveltours.com/events/miami-key-west-florida/
SUMMARY:Miami & Key West\, Florida - #_LOCATIONNAME - 23 Feb 18 00:00
DESCRIPTION:[gview file="https://jhtraveltours.com//wp-content/uploads/2017
 /07/1371267-11B03061300_1.pdf"]\n\nYour Trip includes:\n\n 	Motorcoach tra
 nsportation\n 	10 nights lodging including 4 consecutive nights in the Mia
 mi area\n 	17 meals: 10 breakfasts and 7 dinners\n 	Admission to a CRUISE 
 by celebrity homes on Biscayne Bay\n 	Admission to enchanting CORAL CASTLE
 \n 	Admission to FAIRCHILD TROPICAL BOTANIC GARDENS\n 	A visit to the exci
 ting Island City of Key West\n 	TROLLEY TOUR of Key West followed by Hop-O
 n/Hop Off Privileges\n 	and much more\n\nDeparture: Walmart ( old)\, 3010 
 1st Avenue E\, Newton\, IA @ 8 am\nDay 1: Board your spacious\, video and 
 restroom equipped Motorcoach and set off for the exciting tropical climate
 s of Miami and Key West! This evening\, settle into a comfortable en rout
 e hotel for a good night's rest.\nDay 2: After enjoying a Continental Brea
 kfast\, then visit the Opry Mills in Nashville\, a new concept in "shopper
 tainment"\, which features over an assortment of shops and restaurants in
 cluding Bass Pro Shops Outdoor World. Later\, enjoy Dinner\, then relax in
  your en route hotel.\nDay 3: Today you'll enjoy a Continental Breakfast\,
  then make a stop at the Cannonball House -an Antebellum Home and Museum i
 n Macon\, GA. Later that day\, after a relaxing Dinner\, you'll check int
 o your en route hotel.\nDay 4: Today\, after a Continental Breakfast\, you
 'll arrive in sunny Miami\, Florida. Tonight\, enjoy Dinner and check into
  your Miami area hotel for a four-night stay.\nDay 5: After a Hot Breakfa
 st\, you will depart for a tour of the amazing CORAL CASTLE. Built by one 
 man from 1923 to 1951\, Edward Leedskalnin single-handedly and secretly c
 arved 1\,100 tons of coral rock. When Ed was 26 years old his heart was br
 oken by his one true love when she canceled their wedding just one day be
 fore the ceremony. Deeply saddened by this tragic loss\, Ed set out on a l
 ifelong quest to create a monument to his lost love that is now considered
  one of the world's most remarkable accomplishments. Next\, you will enjoy
  a visit to BAYSIDE MARKETPLACE where great shops and eateries await you\
 , all on beautiful Biscayne Bay. Later\, you will go on a CRUISE on Biscay
 ne Bay featuring "Millionaire's Row" -the homes of the rich and famous. Y
 our boat will go by Fisher Island and Star Island where you can admire the
  spectacular homes of celebrities. Tonight\, enjoy Dinner and return to y
 our hotel.\nDay 6: After a Hot Breakfast\, depart for Key West - the South
 ernmost City in the Continental U.S.A. Upon arrival\, you will enjoy a one
  hour TROLLEY TOUR of Key West! See the highlights of this famous island 
 city. You will then be dropped off at famous Mallory Square. For the rema
 inder of the day\, you will have unlimited Hop-on Hop-off privileges on th
 e TROLLEY. Enjoy dinner on your own\, then head back to your Miami area h
 otel.\nDay 7: Enjoy a Hot Breakfast at your hotel before leaving for the b
 eautiful FAIRCHILD TROPICAL BOTANIC GARDENS. Considered one of the best b
 otanic gardens in the country\, your journey here will begin with a 45 min
 ute tram tour of this amazing garden. Admire the extensive collection of 
 rare tropical plants and lush garden walkways with over 30 species of nati
 ve butterflies! After your tram tour\, peruse the gardens\, find a bench 
 and sit down to relax\, or enjoy their large cafe. Later\, enjoy a Guided 
 Tour of the exciting and glamorous South Beach area of Miami Beach. Take 
 in the beauty of the aqua blue waters while strolling on the beach\, or br
 owse the unique galleries\, specialty shops and designer boutiques. Later
  that day\, enjoy a Dinner with Live Entertainment.\nDay 8: Enjoy a Hot B
 reakfast at your hotel before leaving for the beautiful oceanfront Hollywo
 od Beach "Broadwalk"\, named one of America's best beach boardwalks. Admi
 re the Atlantic Ocean while strolling this brick-paved promenade or relax 
 at one of its many cafes and eateries. This evening\, enjoy Dinner and re
 lax at your en route hotel.\nDay 9: After enjoying a Continental Breakfast
 \, head for the Florida Museum of Natural History in Gainesville\, FL. Tha
 t night\, enjoy Dinner and check into your en route hotel.\nDay 10: Today
 \, you'll enjoy a Continental Breakfast\, then visit the Lookout Mountain 
 Incline Railway in Chattanooga\, TN. Tonight\, you'll rest in your en rou
 te hotel.\nDay 11: After enjoying a Continental Breakfast\, you'll depart 
 for home .•. a time to chat with your friends about all the fun things y
 ou've done\, the great sights you've seen and where your next group trip 
 will take you!\n\n$75 Due Upon Signing.\nFinal Payment Due: 12/16/2017\n\n
 [gview file="https://jhtraveltours.com//wp-content/uploads/2017/07/Inshell
 .pdf"]
ATTACH;FMTTYPE=image/jpeg:https://jhtraveltours.com/wp-content/uploads/201
 7/07/Miami.png
CATEGORIES:Extended Trip
END:VEVENT
BEGIN:VTIMEZONE
TZID:America/Chicago
X-LIC-LOCATION:America/Chicago
BEGIN:STANDARD
DTSTART:20171105T010000
TZOFFSETFROM:-0500
TZOFFSETTO:-0600
TZNAME:CST
END:STANDARD
END:VTIMEZONE
END:VCALENDAR