BEGIN:VCALENDAR
VERSION:2.0
PRODID:-//wp-events-plugin.com//7.2.3.1//EN
TZID:America/Chicago
X-WR-TIMEZONE:America/Chicago
BEGIN:VEVENT
UID:183@jhtraveltours.com
DTSTART;TZID=America/Chicago:20160608T120000
DTEND;TZID=America/Chicago:20160608T190000
DTSTAMP:20160203T043724Z
URL:https://jhtraveltours.com/events/million-dollar-quartet-2016/
SUMMARY:Million Dollar Quartet 2016 - #_LOCATIONNAME - 8 Jun 16 12:00
DESCRIPTION:The date is December 4\, 1956 and four young musicians gather a
 t Sun Records in Memphis for what would be one of the greatest jam session
 s ever. This production brings that legendary night to life with Elvis Pre
 sley\, Carl Perkins\, Jerry Lee Lewis and Johnny Cash!
ATTACH;FMTTYPE=image/jpeg:https://jhtraveltours.com/wp-content/uploads/201
 6/02/MillionDollarQuartet_Slide.jpg
CATEGORIES:Day Trip
END:VEVENT
BEGIN:VTIMEZONE
TZID:America/Chicago
X-LIC-LOCATION:America/Chicago
BEGIN:DAYLIGHT
DTSTART:20160313T030000
TZOFFSETFROM:-0600
TZOFFSETTO:-0500
TZNAME:CDT
END:DAYLIGHT
END:VTIMEZONE
END:VCALENDAR