BEGIN:VCALENDAR
VERSION:2.0
PRODID:-//wp-events-plugin.com//7.2.3.1//EN
TZID:America/Chicago
X-WR-TIMEZONE:America/Chicago
BEGIN:VEVENT
UID:199@jhtraveltours.com
DTSTART;TZID=America/Chicago:20170615T121500
DTEND;TZID=America/Chicago:20170615T190000
DTSTAMP:20160821T235907Z
URL:https://jhtraveltours.com/events/million-dollar-quartet-2017/
SUMMARY:Million Dollar Quartet 2017 - #_LOCATIONNAME - 15 Jun 17 12:15
DESCRIPTION:BACK BY POPULAR DEMAND! The hit rock n' roll music inspired by 
 the electrifying true story of an actual Sun Records recording session wit
 h stars Elvis Presley\, Johnny Cash\, Carl Perkins and Jerry Lee Lewis. Th
 is musical includes hits of the era:  "Blue Suede Shoes"\, "I Walk the Li
 ne"\, "Long Tall Sally" and "Great Balls of Fire"!\n\n
ATTACH;FMTTYPE=image/jpeg:https://jhtraveltours.com/wp-content/uploads/201
 6/02/MillionDollarQuartet_Slide.jpg
CATEGORIES:Day Trip
END:VEVENT
BEGIN:VTIMEZONE
TZID:America/Chicago
X-LIC-LOCATION:America/Chicago
BEGIN:DAYLIGHT
DTSTART:20170312T030000
TZOFFSETFROM:-0600
TZOFFSETTO:-0500
TZNAME:CDT
END:DAYLIGHT
END:VTIMEZONE
END:VCALENDAR