BEGIN:VCALENDAR
VERSION:2.0
PRODID:-//wp-events-plugin.com//7.2.3.1//EN
TZID:America/Chicago
X-WR-TIMEZONE:America/Chicago
BEGIN:VEVENT
UID:58@jhtraveltours.com
DTSTART;TZID=America/Chicago:20130320T163000
DTEND;TZID=America/Chicago:20130320T224500
DTSTAMP:20120828T034307Z
URL:https://jhtraveltours.com/events/million-dollar-quartet/
SUMMARY:Million Dollar Quartet - #_LOCATIONNAME - 20 Mar 13 16:30
DESCRIPTION:If you enjoy Rock ‘n’ Roll this production is for you! Join
  JH Travel on Wednesday\, March 20\, 2013 for a wonderful meal at the Rena
 issance Savory Hotel followed by “Million Dollar Quartet”. 
CATEGORIES:Day Trip
END:VEVENT
BEGIN:VTIMEZONE
TZID:America/Chicago
X-LIC-LOCATION:America/Chicago
BEGIN:DAYLIGHT
DTSTART:20130310T030000
TZOFFSETFROM:-0600
TZOFFSETTO:-0500
TZNAME:CDT
END:DAYLIGHT
END:VTIMEZONE
END:VCALENDAR