BEGIN:VCALENDAR
VERSION:2.0
PRODID:-//wp-events-plugin.com//7.2.3.1//EN
TZID:America/Chicago
X-WR-TIMEZONE:America/Chicago
BEGIN:VEVENT
UID:323@jhtraveltours.com
DTSTART;TZID=America/Chicago:20200321T103000
DTEND;TZID=America/Chicago:20200321T181500
DTSTAMP:20191217T024202Z
URL:https://jhtraveltours.com/events/my-fair-lady/
SUMMARY:My Fair Lady - #_LOCATIONNAME - 21 Mar 20 10:30
DESCRIPTION:\n\nMarch 21\, 2020 (Saturday) \n\nJoin JH Travel for our first
  "2020" Des Moines Performing Arts matinee musical production with this ep
 ic performance!\n\nWe will depart Newton and lunch will be hosted and serv
 ed family style at Iowa Machine Shed in West Des Moines\, IA. Be sure to b
 ring along your appetite for this scrumptious home cooked meal while enjoy
 ing time with friends!\n\nFrom Lincoln Center Theater comes a "sumptuous n
 ew production of the most perfect musical of all time" (Entertainment Week
 ly)\, Lerner &amp\; Loewe's MY FAIR LADY. Boasting such classic songs as "
 I Could Have Danced All Night"\, "The Rain in Spain"\, and "Wouldn't It Be
  Loverly" MY FAIR LADY tells the story of Eliza Dolittle\, a young Cockney
  flower seller\, and Henry Higgins\, a linguistics professor who is determ
 ined to transform her into his idea of a "proper lady".  But who is reall
 y being transformed?\n\nJoin us for a fun afternoon with great food\, enjo
 ying time with friends and a wonderful production of "My Fair Lady"!\n\nDe
 part: 10:30 a.m.\n\nReturn:  6:15 p.m.\n\n&nbsp\;\n\nCost Per Person:  $
 189.00\n\n&nbsp\;\n\nReservation and payment due by January 30\, 2020
ATTACH;FMTTYPE=image/jpeg:https://jhtraveltours.com/wp-content/uploads/201
 9/12/Trip-Header-2.png
CATEGORIES:Day Trip
END:VEVENT
BEGIN:VTIMEZONE
TZID:America/Chicago
X-LIC-LOCATION:America/Chicago
BEGIN:DAYLIGHT
DTSTART:20200308T030000
TZOFFSETFROM:-0600
TZOFFSETTO:-0500
TZNAME:CDT
END:DAYLIGHT
END:VTIMEZONE
END:VCALENDAR