BEGIN:VCALENDAR
VERSION:2.0
PRODID:-//wp-events-plugin.com//7.2.3.1//EN
TZID:America/Chicago
X-WR-TIMEZONE:America/Chicago
BEGIN:VEVENT
UID:224@jhtraveltours.com
DTSTART;TZID=America/Chicago:20170620T063000
DTEND;TZID=America/Chicago:20170620T211500
DTSTAMP:20170215T030534Z
URL:https://jhtraveltours.com/events/mystery-foodie-jaunt-2017/
SUMMARY:Mystery Foodie Jaunt 2017 - #_LOCATIONNAME - 20 Jun 17 06:30
DESCRIPTION:Join JH Travel for our second "foodie" jaunt and this one we wi
 ll be traveling out of state! Get your taste buds ready for a variety of f
 ood from Lithuania\, France and Ireland included with a bit of Scotland an
 d Scandinavia! We are excited about this trip and we hope you are too!\n\n
 \n\nThe smell of fresh baked "yummies" will greet us at our first stop whe
 re a tray of morning pastries await our group where we learn about the tra
 ditions &amp\; customs of this country! A bit of Scandinavia will be share
 d next at a shop that provides unique gifts from this country and will be 
 a delight to browse. Lunch will be served in a French restaurant that is v
 ery well known for great food and ambiance.  The Chef will share his expe
 riences in France along with food traditions in his country. Sit back and 
 relax on the coach a bit while we travel onto a castle for a Scottish pres
 entation and a tour of this Scottish Revival architecture style attraction
 ! Our evening meal will be served "Where Friends Can Gather" along with a 
 couple of Irish ballads or folk songs while we enjoy our Irish meal.\n\nHo
 pe to have you join us for a bit of discovery\, experience and adventure! 
 We are limited to 40 travelers for this fun day of meeting new friends and
  learning about these countries!\n\nDepart:  6:30 a.m.\nReturn:  9:15 p.
 m.\n\nCost Per Person:  $164.00\n\nReservation and payment due by May 25\
 , 2017
ATTACH;FMTTYPE=image/jpeg:https://jhtraveltours.com/wp-content/uploads/201
 7/02/Mystery-Food-Trip-2017.png
CATEGORIES:Day Trip
END:VEVENT
BEGIN:VTIMEZONE
TZID:America/Chicago
X-LIC-LOCATION:America/Chicago
BEGIN:DAYLIGHT
DTSTART:20170312T030000
TZOFFSETFROM:-0600
TZOFFSETTO:-0500
TZNAME:CDT
END:DAYLIGHT
END:VTIMEZONE
END:VCALENDAR