BEGIN:VCALENDAR
VERSION:2.0
PRODID:-//wp-events-plugin.com//7.2.3.1//EN
TZID:America/Chicago
X-WR-TIMEZONE:America/Chicago
BEGIN:VEVENT
UID:188@jhtraveltours.com
DTSTART;TZID=America/Chicago:20160616T074500
DTEND;TZID=America/Chicago:20160616T193000
DTSTAMP:20160408T070045Z
URL:https://jhtraveltours.com/events/mystery-foodie-jaunt/
SUMMARY:Mystery Foodie Jaunt - #_LOCATIONNAME - 16 Jun 16 07:45
DESCRIPTION:&nbsp\;\n\nOur first ever mystery foodie trip!!! If you enjoy E
 ATING and learning about the food you eat - join JH Travel for a trip to ?
 ?. I can almost guarantee that you have been to this town but\, I will bet
  you have never eaten this rich\, ?? traditional food all day! \n\nOur day
  begins with a program of "family secrets" of the success of making ? with
  samples to follow! History\, production\, their best sellers and a touris
 t destination for sure. Our lunch will follow with a double ? with ? chees
 e\, potato salad and bread pudding.  We then learn about a business that 
 "ages" and offers those loveable ?. Hope you like sweets which come from y
 et another "family recipe" which will be shared at a Victorian Villa.  Fr
 ee time for shopping then it is time to be "educated" about ? cuisine for 
 our evening meal! From ?? to ?? it's all about food on our first ever "Mys
 tery Foodie Jaunt"! **Limit of 30 people for this trip! \n\nDepart:  7:45
  a.m. \n\nReturn:  7:30 p.m. \n\nCost Per Person:  $124.00\n\nReservatio
 n and payment due by May 27\, 2016 
ATTACH;FMTTYPE=image/jpeg:https://jhtraveltours.com/wp-content/uploads/201
 6/04/MysteryFoodie.png
CATEGORIES:Day Trip
END:VEVENT
BEGIN:VTIMEZONE
TZID:America/Chicago
X-LIC-LOCATION:America/Chicago
BEGIN:DAYLIGHT
DTSTART:20160313T030000
TZOFFSETFROM:-0600
TZOFFSETTO:-0500
TZNAME:CDT
END:DAYLIGHT
END:VTIMEZONE
END:VCALENDAR