BEGIN:VCALENDAR
VERSION:2.0
PRODID:-//wp-events-plugin.com//7.2.3.1//EN
TZID:America/Chicago
X-WR-TIMEZONE:America/Chicago
BEGIN:VEVENT
UID:166@jhtraveltours.com
DTSTART;TZID=America/Chicago:20161020T121500
DTEND;TZID=America/Chicago:20161020T190000
DTSTAMP:20150909T031848Z
URL:https://jhtraveltours.com/events/nanas-naughty-knickers/
SUMMARY:Nana's Naughty Knickers - #_LOCATIONNAME - 20 Oct 16 12:15
DESCRIPTION:\nEnjoy an autumn day with JH Travel for the comedy production 
 of "Nana's Naughty Knickers" which will be seen at the Old Creamery Theatr
 e in Amana\, Iowa. Don't forget our premium seating for this show as well 
 as all the matinee shows at the Old Creamery Theatre! \n\nA young law stud
 ent moves in with her sweet and innocent grandmother only to learn that Gr
 anny is running a lingerie business for sexy seniors out of her New York a
 partment. It's two hours of non-stop laughs as granny and her pals try to 
 sidestep the law\, a greedy landlord\, and a shipment of merchandise gone 
 awry! \n\nFollowing this hilarious production an evening meal will be serv
 ed at the English Valley Bed &amp\; Breakfast near Montezuma. \n\nGet read
 y for laughter\, seeing friends and be sure to bring along your appetite f
 or our evening meal! Don't miss out - check your calendar and be sure to m
 ake reservations soon! \n\nDepart: 12:15 p.m.\nReturn: 7:00 p.m. \n\nCost 
 Per Person: $103.00\n\nReservations and payment due by September 21\, 2016
  
ATTACH;FMTTYPE=image/jpeg:https://jhtraveltours.com/wp-content/uploads/201
 5/09/Nanas-Naughty-Knickers.jpg
CATEGORIES:Day Trip
END:VEVENT
BEGIN:VTIMEZONE
TZID:America/Chicago
X-LIC-LOCATION:America/Chicago
BEGIN:DAYLIGHT
DTSTART:20160313T030000
TZOFFSETFROM:-0600
TZOFFSETTO:-0500
TZNAME:CDT
END:DAYLIGHT
END:VTIMEZONE
END:VCALENDAR