BEGIN:VCALENDAR
VERSION:2.0
PRODID:-//wp-events-plugin.com//7.2.3.1//EN
TZID:America/Chicago
X-WR-TIMEZONE:America/Chicago
BEGIN:VEVENT
UID:413@jhtraveltours.com
DTSTART;TZID=America/Chicago;VALUE=DATE:20240422
DTEND;TZID=America/Chicago;VALUE=DATE:20240428
DTSTAMP:20230919T203646Z
URL:https://jhtraveltours.com/events/nashville-show-trip-2/
SUMMARY:Nashville Show Trip - #_LOCATIONNAME - 22 Apr 24 00:00
DESCRIPTION:[pdf-embedder url="https://jhtraveltours.com/wp-content/uploads
 /2023/08/nashville-2024.pdf" title="nashville 2024"]\n\n&nbsp\;\n\n[pdf-em
 bedder url="https://jhtraveltours.com/wp-content/uploads/2023/08/April-22-
 27_-2024-Insurance-Info.pdf" title="April 22 - 27_ 2024 - Insurance Info"]
ATTACH;FMTTYPE=image/jpeg:https://jhtraveltours.com/wp-content/uploads/202
 3/08/nashville-image.png
CATEGORIES:Short Trip
END:VEVENT
BEGIN:VTIMEZONE
TZID:America/Chicago
X-LIC-LOCATION:America/Chicago
BEGIN:DAYLIGHT
DTSTART:20240310T030000
TZOFFSETFROM:-0600
TZOFFSETTO:-0500
TZNAME:CDT
END:DAYLIGHT
END:VTIMEZONE
END:VCALENDAR