BEGIN:VCALENDAR
VERSION:2.0
PRODID:-//wp-events-plugin.com//7.2.3.1//EN
TZID:America/Chicago
X-WR-TIMEZONE:America/Chicago
BEGIN:VEVENT
UID:370@jhtraveltours.com
DTSTART;TZID=America/Chicago;VALUE=DATE:20220926
DTEND;TZID=America/Chicago;VALUE=DATE:20221002
DTSTAMP:20220923T020904Z
URL:https://jhtraveltours.com/events/nashville-show-trip/
SUMMARY:Nashville Show Trip - #_LOCATIONNAME - 26 Sep 22 00:00
DESCRIPTION:&nbsp\;\n\n[pdf-embedder url="https://jhtraveltours.com/wp-cont
 ent/uploads/2022/03/September-26-October-1-2022-Nashville-brochures-travel
 -protection-info.pdf" title="September 26 - October 1\, 2022 - Nashville b
 rochures &amp\; travel protection info"]
CATEGORIES:Extended Trip
END:VEVENT
BEGIN:VTIMEZONE
TZID:America/Chicago
X-LIC-LOCATION:America/Chicago
BEGIN:DAYLIGHT
DTSTART:20220313T030000
TZOFFSETFROM:-0600
TZOFFSETTO:-0500
TZNAME:CDT
END:DAYLIGHT
END:VTIMEZONE
END:VCALENDAR