BEGIN:VCALENDAR
VERSION:2.0
PRODID:-//wp-events-plugin.com//7.2.3.1//EN
TZID:America/Chicago
X-WR-TIMEZONE:America/Chicago
BEGIN:VEVENT
UID:204@jhtraveltours.com
DTSTART;TZID=America/Chicago:20171207T121500
DTEND;TZID=America/Chicago:20171207T190000
DTSTAMP:20160822T031116Z
URL:https://jhtraveltours.com/events/new-christmas-carol/
SUMMARY:The New Christmas Carol - #_LOCATIONNAME - 7 Dec 17 12:15
DESCRIPTION:This is the last show in the Old Creamery Theatre's Main Stage 
 season and looking forward to having you join JH Travel for this afternoon
  of comedy &amp\; great food!\n\nThis brand new thrilling adaptation of Di
 ckens' classic comes from the author of the Broadway and West End hit\, Th
 e 39 Steps. A truly original retelling of the story of Ebenezer Scrooge an
 d his ghostly visitors brought to life by a small\, imaginative cast. It's
  the spirit of the Christmas season in a way you've NEVER seen it before.
   Witness Scrooge's transformation from a stingy miser to a man who gener
 ously celebrates the spirit of the season all year long\, in this highly t
 heatrical adaption!\n\nAfter our matinee show Ox Yoke Inn will host travel
 ers for a family style evening meal located in Amana\, Iowa.\n\nDepart:  
 12:15 p.m.\nReturn:  7:00 p.m.\n\nCost Per Person:  $103.00\n\nReservati
 on and payment due by November 17\, 2017 
ATTACH;FMTTYPE=image/jpeg:https://jhtraveltours.com/wp-content/uploads/201
 6/08/A-Christmas-Story.png
CATEGORIES:Day Trip
END:VEVENT
BEGIN:VTIMEZONE
TZID:America/Chicago
X-LIC-LOCATION:America/Chicago
BEGIN:STANDARD
DTSTART:20171105T010000
TZOFFSETFROM:-0500
TZOFFSETTO:-0600
TZNAME:CST
END:STANDARD
END:VTIMEZONE
END:VCALENDAR