BEGIN:VCALENDAR
VERSION:2.0
PRODID:-//wp-events-plugin.com//7.2.3.1//EN
TZID:America/Chicago
X-WR-TIMEZONE:America/Chicago
BEGIN:VEVENT
UID:303@jhtraveltours.com
DTSTART;TZID=America/Chicago:20200328T080000
DTEND;TZID=America/Chicago:20200405T080000
DTSTAMP:20200122T183046Z
URL:https://jhtraveltours.com/events/new-orleans-2020/
SUMMARY:New Orleans - #_LOCATIONNAME - 28 Mar 20 08:00
DESCRIPTION:&nbsp\;\n\n[pdf-embedder url="https://jhtraveltours.com/wp-cont
 ent/uploads/2019/05/New-Orleans.pdf" title="New Orleans"]\n\nDownload file
  here: https://jhtraveltours.com/wp-content/uploads/2019/05/New-Orleans.pd
 f\n\n[pdf-embedder url="https://jhtraveltours.com/wp-content/uploads/2019/
 05/TravelInsuranceFlyer-2.pdf" title="TravelInsuranceFlyer (2)"]\n\n&nbsp\
 ;
ATTACH;FMTTYPE=image/jpeg:https://jhtraveltours.com/wp-content/uploads/201
 9/05/New-Orleans-2020.png
CATEGORIES:Extended Trip
END:VEVENT
BEGIN:VTIMEZONE
TZID:America/Chicago
X-LIC-LOCATION:America/Chicago
BEGIN:DAYLIGHT
DTSTART:20200308T030000
TZOFFSETFROM:-0600
TZOFFSETTO:-0500
TZNAME:CDT
END:DAYLIGHT
END:VTIMEZONE
END:VCALENDAR