BEGIN:VCALENDAR
VERSION:2.0
PRODID:-//wp-events-plugin.com//7.2.3.1//EN
TZID:America/Chicago
X-WR-TIMEZONE:America/Chicago
BEGIN:VEVENT
UID:354@jhtraveltours.com
DTSTART;TZID=America/Chicago;VALUE=DATE:20220319
DTEND;TZID=America/Chicago;VALUE=DATE:20220328
DTSTAMP:20210810T005039Z
URL:https://jhtraveltours.com/events/new-orleans-2022/
SUMMARY:New Orleans 2022 - #_LOCATIONNAME - 19 Mar 22 00:00
DESCRIPTION:[pdf-embedder url="https://jhtraveltours.com/wp-content/uploads
 /2021/08/1841399-9F07081700_MOD_1.pdf" title="New Orleans 2022"]\n\nDownlo
 ad Flyer here.\n\n[pdf-embedder url="https://jhtraveltours.com/wp-content/
 uploads/2021/08/New-Orleans-INS-2022.pdf" title="New Orleans INS 2022"]\n\
 nDownload Insurance Flyer here.
CATEGORIES:Extended Trip
END:VEVENT
BEGIN:VTIMEZONE
TZID:America/Chicago
X-LIC-LOCATION:America/Chicago
BEGIN:DAYLIGHT
DTSTART:20220313T030000
TZOFFSETFROM:-0600
TZOFFSETTO:-0500
TZNAME:CDT
END:DAYLIGHT
END:VTIMEZONE
END:VCALENDAR