BEGIN:VCALENDAR
VERSION:2.0
PRODID:-//wp-events-plugin.com//7.2.3.1//EN
TZID:America/Chicago
X-WR-TIMEZONE:America/Chicago
BEGIN:VEVENT
UID:289@jhtraveltours.com
DTSTART;TZID=America/Chicago:20191121T121500
DTEND;TZID=America/Chicago:20191121T193000
DTSTAMP:20181230T045559Z
URL:https://jhtraveltours.com/events/not-another-christmas-letter/
SUMMARY:Not Another Christmas Letter - #_LOCATIONNAME - 21 Nov 19 12:15
DESCRIPTION:Join JH Travel for a fun\, matinee comedy show at Old Creamery 
 Theatre followed by an evening meal at Valerie's Fine Dining at the Linden
  House in Lynnville\, IA.\n\nFrom competitive Black Friday shopping to din
 ner with the in-laws\, from assembling complicated gifts on Christmas Eve 
 to capturing the perfect family photo\, this original musical comedy celeb
 rates everything that drives us crazy about Christmas… and why we love i
 t anyway! A perfect way to celebrate the holidays with the whole family!\n
 \nOur evening meal will be hosted by Valerie which will include a cup of s
 oup\, side salad\, Flower Pot Bread with a main entree\, vegetable &amp\; 
 drink and snicker doodle apple cobbler with ice cream for dessert. A main 
 entree choice will need to be given when making a reservation in which the
  entrees are: 1). Smothered Chicken with mushrooms &amp\; Swiss cheese 2).
  Grilled Pork Loin.\n\nDon't miss this fun afternoon &amp\; evening! Call 
 today to make your reservations!\n\nDepart: 12:15 p.m.\n\nReturn:  7:30 p
 .m.\n\nCost Per Person: $114.00\n\nReservations and payment due by Novembe
 r 1\, 2019 
ATTACH;FMTTYPE=image/jpeg:https://jhtraveltours.com/wp-content/uploads/201
 8/12/Not-Another-Christmas-Letter.png
CATEGORIES:Day Trip
END:VEVENT
BEGIN:VTIMEZONE
TZID:America/Chicago
X-LIC-LOCATION:America/Chicago
BEGIN:STANDARD
DTSTART:20191103T010000
TZOFFSETFROM:-0500
TZOFFSETTO:-0600
TZNAME:CST
END:STANDARD
END:VTIMEZONE
END:VCALENDAR