BEGIN:VCALENDAR
VERSION:2.0
PRODID:-//wp-events-plugin.com//7.2.3.1//EN
TZID:America/Chicago
X-WR-TIMEZONE:America/Chicago
BEGIN:VEVENT
UID:139@jhtraveltours.com
DTSTART;TZID=America/Chicago:20151202T121500
DTEND;TZID=America/Chicago:20151202T184500
DTSTAMP:20141007T033133Z
URL:https://jhtraveltours.com/events/nuncrackers/
SUMMARY:Nuncrackers - #_LOCATIONNAME - 2 Dec 15 12:15
DESCRIPTION:You won't want to miss the Little Sisters of Hoboken from "Nuns
 ense" as they return to the Old Creamery's stage to put their patented spi
 n on celebrating the holidays. Reverend Mother and her crew will provide p
 lenty of Christmas music and more laughs than you shake a candy cane at.\n
 \nJoin JH Travel for an afternoon of fun\, music\, comedy &amp\; great foo
 d! Our evening meal will be served at the Ronnenburg Restaurant located in
  Amana. Don't forget our great seats at the Old Creamery for this matinee 
 show!\n\nDepart: 12:15 p.m.\nReturn: 6:45 p.m.\n\nCost Per Person: $99.00\
 n\nReservation and payment due by November 13\, 2015 
ATTACH;FMTTYPE=image/jpeg:https://jhtraveltours.com/wp-content/uploads/201
 4/10/nuncrackers_logo_200px.jpg
CATEGORIES:Day Trip
END:VEVENT
BEGIN:VTIMEZONE
TZID:America/Chicago
X-LIC-LOCATION:America/Chicago
BEGIN:STANDARD
DTSTART:20151101T010000
TZOFFSETFROM:-0500
TZOFFSETTO:-0600
TZNAME:CST
END:STANDARD
END:VTIMEZONE
END:VCALENDAR