BEGIN:VCALENDAR
VERSION:2.0
PRODID:-//wp-events-plugin.com//7.2.3.1//EN
TZID:America/Chicago
X-WR-TIMEZONE:America/Chicago
BEGIN:VEVENT
UID:179@jhtraveltours.com
DTSTART;TZID=America/Chicago:20160831T121500
DTEND;TZID=America/Chicago:20160831T184500
DTSTAMP:20160201T051842Z
URL:https://jhtraveltours.com/events/ole-and-lena-nursemaid-dial-911/
SUMMARY:Ole and Lena: Nursemaid Dial 911 - #_LOCATIONNAME - 31 Aug 16 12:15
DESCRIPTION:Join JH Travel for this comedy show at the Old Creamery Theatre
  with Ole and Lena! Here is the story line: Bad news has come to Potsdam! 
 Lena's cousin Mildred is having surgery! Lena\, seeing an opportunity to t
 ake a break from Ole\, has volunteered to head up to Mildred's
ATTACH;FMTTYPE=image/jpeg:https://jhtraveltours.com/wp-content/uploads/201
 6/01/Ole-and-Lena.jpg
CATEGORIES:Day Trip
END:VEVENT
BEGIN:VTIMEZONE
TZID:America/Chicago
X-LIC-LOCATION:America/Chicago
BEGIN:DAYLIGHT
DTSTART:20160313T030000
TZOFFSETFROM:-0600
TZOFFSETTO:-0500
TZNAME:CDT
END:DAYLIGHT
END:VTIMEZONE
END:VCALENDAR