BEGIN:VCALENDAR
VERSION:2.0
PRODID:-//wp-events-plugin.com//7.2.3.1//EN
TZID:America/Chicago
X-WR-TIMEZONE:America/Chicago
BEGIN:VEVENT
UID:31@jhtraveltours.com
DTSTART;TZID=America/Chicago:20120509T131500
DTEND;TZID=America/Chicago:20120509T201500
DTSTAMP:20120318T020158Z
URL:https://jhtraveltours.com/events/on-golden-pond/
SUMMARY:On Golden Pond - #_LOCATIONNAME - 9 May 12 13:15
DESCRIPTION:A heart-warming and hilarious celebration of everyday life\, lo
 ve and family. Originally presented to critical and popular acclaim on Bro
 adway\, this funny\, touching and warmly perceptive play centers around lo
 vable curmudgeon\, Norman Thayer\, Jr.\, and his spirited wife\, Ethel\, w
 ho make their 48th annual trip to their summer home on Golden Pond in Main
 e.  They are soon visited by their middle-aged daughter and her dentist f
 iancé\, who\, en route to a European vacation\, leave behind his teenage 
 son for the summer.  The boy quickly becomes the "grandchild" the elderly
  couple has longed for\, and as Norman revels in taking his ward fishing a
 nd thrusting good books at him\, he also learns some lessons about modern 
 teenage awareness - and slang - in return.
CATEGORIES:Day Trip
END:VEVENT
BEGIN:VTIMEZONE
TZID:America/Chicago
X-LIC-LOCATION:America/Chicago
BEGIN:DAYLIGHT
DTSTART:20120311T030000
TZOFFSETFROM:-0600
TZOFFSETTO:-0500
TZNAME:CDT
END:DAYLIGHT
END:VTIMEZONE
END:VCALENDAR