BEGIN:VCALENDAR
VERSION:2.0
PRODID:-//wp-events-plugin.com//7.2.3.1//EN
TZID:America/Chicago
X-WR-TIMEZONE:America/Chicago
BEGIN:VEVENT
UID:285@jhtraveltours.com
DTSTART;TZID=America/Chicago:20190613T121500
DTEND;TZID=America/Chicago:20190613T190000
DTSTAMP:20181230T042254Z
URL:https://jhtraveltours.com/events/once-a-ponzi-time/
SUMMARY:Once A Ponzi Time - #_LOCATIONNAME - 13 Jun 19 12:15
DESCRIPTION:June 13\, 2019 (Thursday) \n\nJoin JH Travel for this fantastic
 ally story telling financial farce with a matinee show at Old Creamery The
 atre!  The Ronneburg Restaurant will be hosting our group with a family s
 tyle meal with all the Amana favorite fixings!\n\nHarold Vanderhoff has ad
 vised his friends about their finances for years with impossibly good resu
 lts... but when his pyramid scheme begins to crumble he must rely on his f
 laky father and naive nephew to bamboozle the authorities. Shady investmen
 ts and double-dealing abound in this brand new fantastically funny financi
 al farce!\n\nGet ready for a fun show and an afternoon with friends follow
 ed by a "yummy" meal at Ronneburg Restaurant!\n\nDepart:  12:15 p.m.\n\nR
 eturn:  7:00 p.m.\n\nReservation and payment due by May 21\, 2019 
ATTACH;FMTTYPE=image/jpeg:https://jhtraveltours.com/wp-content/uploads/201
 8/12/Trip-Header-7.png
CATEGORIES:Day Trip
END:VEVENT
BEGIN:VTIMEZONE
TZID:America/Chicago
X-LIC-LOCATION:America/Chicago
BEGIN:DAYLIGHT
DTSTART:20190310T030000
TZOFFSETFROM:-0600
TZOFFSETTO:-0500
TZNAME:CDT
END:DAYLIGHT
END:VTIMEZONE
END:VCALENDAR