BEGIN:VCALENDAR
VERSION:2.0
PRODID:-//wp-events-plugin.com//7.2.3.1//EN
TZID:America/Chicago
X-WR-TIMEZONE:America/Chicago
BEGIN:VEVENT
UID:158@jhtraveltours.com
DTSTART;TZID=America/Chicago:20160314T000000
DTEND;TZID=America/Chicago:20160329T000000
DTSTAMP:20150609T025738Z
URL:https://jhtraveltours.com/events/panama-canal/
SUMMARY:Traveling Through the Panama Canal - #_LOCATIONNAME - 14 Mar 16 00:
 00
DESCRIPTION:&nbsp\;\n16 DAYS • MARCH 14 – 29\, 2016\nDownload the broch
 ure here.\n\nTravel through the famed Panama Canal from the Pacific Ocean 
 to the Gulf of Mexico. Sail aboard Holland America’s ms Maasdam from San
  Diego\, California to Ft. Lauderdale\, Florida.
ATTACH;FMTTYPE=image/jpeg:https://jhtraveltours.com/wp-content/uploads/201
 5/06/Panama1150x300.png
CATEGORIES:Extended Trip
END:VEVENT
BEGIN:VTIMEZONE
TZID:America/Chicago
X-LIC-LOCATION:America/Chicago
BEGIN:DAYLIGHT
DTSTART:20160313T030000
TZOFFSETFROM:-0600
TZOFFSETTO:-0500
TZNAME:CDT
END:DAYLIGHT
END:VTIMEZONE
END:VCALENDAR