BEGIN:VCALENDAR
VERSION:2.0
PRODID:-//wp-events-plugin.com//7.2.3.1//EN
TZID:America/Chicago
X-WR-TIMEZONE:America/Chicago
BEGIN:VEVENT
UID:234@jhtraveltours.com
DTSTART;TZID=America/Chicago;VALUE=DATE:20181202
DTEND;TZID=America/Chicago;VALUE=DATE:20181209
DTSTAMP:20170828T025121Z
URL:https://jhtraveltours.com/events/pigeon-forge-smoky-mountains-show-tri
 p/
SUMMARY:Pigeon Forge and Smoky Mountains Show Trip - #_LOCATIONNAME - 2 Dec
  18 00:00
DESCRIPTION:Your Trip Includes:\n\n 	6 nights lodging including 4 consecuti
 ve nights in the Smokies\n 	10 meals: 6 breakfasts and 4 dinners\n 	Admiss
 ion to TITANIC: THE WORLD’S LARGEST MUSEUM ATTRACTION\n 	Three Dinner Sh
 ows: SOUL OF MOTOWN\, AMERICA'S HIT PARADE\, and THE HATFIELD-MCCOY SHOW\n
  	One Evening Show: CHRISTMAS AT THE SMOKY MOUNTAIN OPRY\n 	Two Morning Sh
 ows: The MAGIC BEYOND BELIEF SHOW and “TIS THE SEASON” SHOW\n 	Free ti
 me in HISTORIC DOWNTOWN GATLINBURG\n 	and much more...\n\n[gview file="htt
 ps://jhtraveltours.com//wp-content/uploads/2017/08/1434000-7L12051304_MOD_
 2.pdf"]\n\n[gview file="https://jhtraveltours.com//wp-content/uploads/2017
 /08/TravelInsuranceFlyer.pdf"]\n\n&nbsp\;
ATTACH;FMTTYPE=image/jpeg:https://jhtraveltours.com/wp-content/uploads/201
 7/08/Pigeon.png
CATEGORIES:Extended Trip
END:VEVENT
BEGIN:VTIMEZONE
TZID:America/Chicago
X-LIC-LOCATION:America/Chicago
BEGIN:STANDARD
DTSTART:20181104T010000
TZOFFSETFROM:-0500
TZOFFSETTO:-0600
TZNAME:CST
END:STANDARD
END:VTIMEZONE
END:VCALENDAR