BEGIN:VCALENDAR
VERSION:2.0
PRODID:-//wp-events-plugin.com//7.2.3.1//EN
TZID:America/Chicago
X-WR-TIMEZONE:America/Chicago
BEGIN:VEVENT
UID:305@jhtraveltours.com
DTSTART;TZID=America/Chicago:20191013T060000
DTEND;TZID=America/Chicago:20191017T183000
DTSTAMP:20190507T033831Z
URL:https://jhtraveltours.com/events/pioneer-woman-magnolia-market-more/
SUMMARY:Pioneer Woman & Magnolia Market & More - #_LOCATIONNAME - 13 Oct 19
  06:00
DESCRIPTION:Join JH Travel for a visit to the Pioneer Woman Mercantile owne
 d by Ree &amp\; Ladd Drummond in Pawhuska\, OK and Magnolia Market owned b
 y Chip &amp\; Joanna Gaines of Waco\, Texas!\n\nOur first day will be a tr
 avel day with an evening meal (included) before retiring at our overnight 
 accommodation in Ponca City\, OK. On Day two we will visit The Lodge which
  is the Drummond's family guest house and the production facility for Ree'
 s Food Network show (this visit is depending on her filming schedule) or p
 lan B is to have a step on guide join our coach for a visit to Pawhuska to
  discover the community where Ree &amp\; Ladd Drummond live &amp\; work. W
 e have reservations at The Mercantile for lunch (included) followed by fre
 e time at The Merc before traveling toward Ardmore\, OK. On Day 3 after de
 parting the hotel we will have free time at the Ardmore Emporium with time
  for lunch and then onto Waco! Magnolia Market at the Silos location welco
 mes our group with time to shop along with the unique experience of pickin
 g one of the food trucks for an evening meal &amp\; relax for the night as
  we have a busy next day. Rise &amp\; shine early on Day 4 for a fun day t
 hat begins with breakfast at The Magnolia Table (included) followed by a t
 our that will include: Magnolia Warehouse stop\, 2nd Presbyterian Church (
 just purchased by Chip &amp\; Joanna to be remodeled into a wedding chapel
 )\, Harp Design\, JDH Iron Design\, drive by homes that have been complete
 d by Chip &amp\; Joanna as in Scrivano House\, Beanstalk Bungalow\, Cotton
 land Castle\, Catastrophe House\, Little House on the Prairie and see well
  known sites in the Waco area. Return to Magnolia Market for lunch &amp\; 
 free time before we board the coach to Guthrie\, OK. Our last day is a tra
 vel day back to Newton with great memories of "Pioneer Woman &amp\; Magnol
 ia Market &amp\; More" adventures!\n\nTour Includes: motor coach transport
 ation\, overnight accommodations at Hampton Inn locations throughout the t
 rip\, 6 meals included (4 breakfasts\, 1 lunch &amp\; 1 evening meal)\, to
 ur fee on Day 2 &amp\; Day 4 along with step on guide gratuities\, motor c
 oach driver gratuity &amp\; LOTS OF FUN!!!\n\n(Not Included: luggage handl
 ing)\n\nDepart: 6:00 a.m. - October 13\, 2019\n\nReturn:  6:30 p.m. - Oct
 ober 17\, 2019\n\nCost Per Person:         $765.00 - Quad     
                   $803.00  - Triple\n\n$873.00 - Double
                     $1\,099.00 - Single\n\nA deposit of
  $200.00 is due at the time of reservation. The final balance is due by Se
 ptember 3\, 2019. 
ATTACH;FMTTYPE=image/jpeg:https://jhtraveltours.com/wp-content/uploads/201
 9/05/Magnolia.jpg
CATEGORIES:Extended Trip
END:VEVENT
BEGIN:VTIMEZONE
TZID:America/Chicago
X-LIC-LOCATION:America/Chicago
BEGIN:DAYLIGHT
DTSTART:20190310T030000
TZOFFSETFROM:-0600
TZOFFSETTO:-0500
TZNAME:CDT
END:DAYLIGHT
END:VTIMEZONE
END:VCALENDAR